BEGIN:VCALENDAR
VERSION:2.0
PRODID:-//Adventist Edge - ECPv6.15.13//NONSGML v1.0//EN
CALSCALE:GREGORIAN
METHOD:PUBLISH
X-WR-CALNAME:Adventist Edge
X-ORIGINAL-URL:https://www.adventistedge.com
X-WR-CALDESC:Events for Adventist Edge
REFRESH-INTERVAL;VALUE=DURATION:PT1H
X-Robots-Tag:noindex
X-PUBLISHED-TTL:PT1H
BEGIN:VTIMEZONE
TZID:America/New_York
BEGIN:DAYLIGHT
TZOFFSETFROM:-0500
TZOFFSETTO:-0400
TZNAME:EDT
DTSTART:20230312T070000
END:DAYLIGHT
BEGIN:STANDARD
TZOFFSETFROM:-0400
TZOFFSETTO:-0500
TZNAME:EST
DTSTART:20231105T060000
END:STANDARD
BEGIN:DAYLIGHT
TZOFFSETFROM:-0500
TZOFFSETTO:-0400
TZNAME:EDT
DTSTART:20240310T070000
END:DAYLIGHT
BEGIN:STANDARD
TZOFFSETFROM:-0400
TZOFFSETTO:-0500
TZNAME:EST
DTSTART:20241103T060000
END:STANDARD
BEGIN:DAYLIGHT
TZOFFSETFROM:-0500
TZOFFSETTO:-0400
TZNAME:EDT
DTSTART:20250309T070000
END:DAYLIGHT
BEGIN:STANDARD
TZOFFSETFROM:-0400
TZOFFSETTO:-0500
TZNAME:EST
DTSTART:20251102T060000
END:STANDARD
END:VTIMEZONE
BEGIN:VEVENT
DTSTART;TZID=America/New_York:20240614T080000
DTEND;TZID=America/New_York:20240614T170000
DTSTAMP:20260423T102953
CREATED:20240613T021211Z
LAST-MODIFIED:20240613T021211Z
UID:25023-1718352000-1718384400@www.adventistedge.com
SUMMARY:Editor Test
DESCRIPTION:This is a test event
URL:https://www.adventistedge.com/event/editor-test/
LOCATION:Southern Union Conference\, 302 Research Drive\, Norcross\, GA\, 30092\, United States
CATEGORIES:Education
ORGANIZER;CN="Andrea Henry-Smith":MAILTO:lirsupport@southernunion.com
END:VEVENT
END:VCALENDAR