BEGIN:VCALENDAR
VERSION:2.0
PRODID:-//Adventist Edge - ECPv6.15.13//NONSGML v1.0//EN
CALSCALE:GREGORIAN
METHOD:PUBLISH
X-ORIGINAL-URL:https://www.adventistedge.com
X-WR-CALDESC:Events for Adventist Edge
REFRESH-INTERVAL;VALUE=DURATION:PT1H
X-Robots-Tag:noindex
X-PUBLISHED-TTL:PT1H
BEGIN:VTIMEZONE
TZID:America/New_York
BEGIN:DAYLIGHT
TZOFFSETFROM:-0500
TZOFFSETTO:-0400
TZNAME:EDT
DTSTART:20210314T070000
END:DAYLIGHT
BEGIN:STANDARD
TZOFFSETFROM:-0400
TZOFFSETTO:-0500
TZNAME:EST
DTSTART:20211107T060000
END:STANDARD
BEGIN:DAYLIGHT
TZOFFSETFROM:-0500
TZOFFSETTO:-0400
TZNAME:EDT
DTSTART:20220313T070000
END:DAYLIGHT
BEGIN:STANDARD
TZOFFSETFROM:-0400
TZOFFSETTO:-0500
TZNAME:EST
DTSTART:20221106T060000
END:STANDARD
BEGIN:DAYLIGHT
TZOFFSETFROM:-0500
TZOFFSETTO:-0400
TZNAME:EDT
DTSTART:20230312T070000
END:DAYLIGHT
BEGIN:STANDARD
TZOFFSETFROM:-0400
TZOFFSETTO:-0500
TZNAME:EST
DTSTART:20231105T060000
END:STANDARD
BEGIN:DAYLIGHT
TZOFFSETFROM:-0500
TZOFFSETTO:-0400
TZNAME:EDT
DTSTART:20240310T070000
END:DAYLIGHT
BEGIN:STANDARD
TZOFFSETFROM:-0400
TZOFFSETTO:-0500
TZNAME:EST
DTSTART:20241103T060000
END:STANDARD
END:VTIMEZONE
BEGIN:VEVENT
DTSTART;TZID=America/New_York:20230906T130000
DTEND;TZID=America/New_York:20230906T140000
DTSTAMP:20260425T093154
CREATED:20230803T211037Z
LAST-MODIFIED:20230911T163113Z
UID:24489-1694005200-1694008800@www.adventistedge.com
SUMMARY:CSIP Training
DESCRIPTION:
URL:https://www.adventistedge.com/event/csip-training/
LOCATION:FL
END:VEVENT
BEGIN:VEVENT
DTSTART;TZID=America/New_York:20230905T170000
DTEND;TZID=America/New_York:20230905T180000
DTSTAMP:20260425T093154
CREATED:20230803T205756Z
LAST-MODIFIED:20230815T123104Z
UID:24474-1693933200-1693936800@www.adventistedge.com
SUMMARY:Principal Cohort 23 Meeting
DESCRIPTION:
URL:https://www.adventistedge.com/event/principal-cohort-23-meeting/
LOCATION:FL
END:VEVENT
BEGIN:VEVENT
DTSTART;TZID=America/New_York:20230905T080000
DTEND;TZID=America/New_York:20230918T170000
DTSTAMP:20260425T093154
CREATED:20230719T220038Z
LAST-MODIFIED:20230720T143532Z
UID:24438-1693900800-1695056400@www.adventistedge.com
SUMMARY:MAP fall
DESCRIPTION:
URL:https://www.adventistedge.com/event/map-fall/
LOCATION:FL
END:VEVENT
BEGIN:VEVENT
DTSTART;VALUE=DATE:20230904
DTEND;VALUE=DATE:20230905
DTSTAMP:20260425T093154
CREATED:20230719T205206Z
LAST-MODIFIED:20230719T205708Z
UID:24432-1693785600-1693871999@www.adventistedge.com
SUMMARY:Labor Day- School closed
DESCRIPTION:
URL:https://www.adventistedge.com/event/labor-day-5/
LOCATION:FL
END:VEVENT
BEGIN:VEVENT
DTSTART;TZID=America/New_York:20230824T130000
DTEND;TZID=America/New_York:20230824T140000
DTSTAMP:20260425T093154
CREATED:20230803T160304Z
LAST-MODIFIED:20230815T123210Z
UID:24465-1692882000-1692885600@www.adventistedge.com
SUMMARY:Union Registrar Meetings
DESCRIPTION:
URL:https://www.adventistedge.com/event/union-registrar-meetings/
LOCATION:FL
END:VEVENT
BEGIN:VEVENT
DTSTART;TZID=America/New_York:20230816T170000
DTEND;TZID=America/New_York:20230816T180000
DTSTAMP:20260425T093154
CREATED:20230803T210822Z
LAST-MODIFIED:20230815T123117Z
UID:24481-1692205200-1692208800@www.adventistedge.com
SUMMARY:Principal Cohort 24 Meeting
DESCRIPTION:
URL:https://www.adventistedge.com/event/principal-cohort-24-meeting/
LOCATION:FL
END:VEVENT
BEGIN:VEVENT
DTSTART;VALUE=DATE:20230814
DTEND;VALUE=DATE:20230815
DTSTAMP:20260425T093154
CREATED:20230719T203634Z
LAST-MODIFIED:20230719T203634Z
UID:24430-1691971200-1692057599@www.adventistedge.com
SUMMARY:1st Day of school
DESCRIPTION:
URL:https://www.adventistedge.com/event/1st-day-of-school/
LOCATION:FL
END:VEVENT
BEGIN:VEVENT
DTSTART;VALUE=DATE:20230807
DTEND;VALUE=DATE:20230811
DTSTAMP:20260425T093154
CREATED:20230104T142431Z
LAST-MODIFIED:20230104T142431Z
UID:24276-1691366400-1691711999@www.adventistedge.com
SUMMARY:2023 NAD Educators' Convention
DESCRIPTION:The 2023 NAD Educators’ Convention “Something Better” \nPhoenix Convention Center \nPhoenix\, Arizona \nAugust 7 – 10\, 2023 \nContact your conference office of education\, to register \nClick here for a schedule of events \n  \n 
URL:https://www.adventistedge.com/event/2023-nad-educators-convention/
LOCATION:FL
END:VEVENT
BEGIN:VEVENT
DTSTART;TZID=America/New_York:20230418T170000
DTEND;TZID=America/New_York:20230418T180000
DTSTAMP:20260425T093154
CREATED:20220728T164316Z
LAST-MODIFIED:20220728T150734Z
UID:24152-1681837200-1681840800@www.adventistedge.com
SUMMARY:New Principal Cohort Meeting
DESCRIPTION:
URL:https://www.adventistedge.com/event/new-principal-cohort-meeting-6/
LOCATION:Zoom Meeting
END:VEVENT
BEGIN:VEVENT
DTSTART;TZID=America/New_York:20230321T163000
DTEND;TZID=America/New_York:20230321T173000
DTSTAMP:20260425T093154
CREATED:20220811T201806Z
LAST-MODIFIED:20220801T173128Z
UID:24185-1679416200-1679419800@www.adventistedge.com
SUMMARY:New Teacher Cohort Meeting
DESCRIPTION:
URL:https://www.adventistedge.com/event/new-teacher-cohort-meeting-4/
LOCATION:Zoom Meeting
END:VEVENT
BEGIN:VEVENT
DTSTART;TZID=America/New_York:20230117T163000
DTEND;TZID=America/New_York:20230117T173000
DTSTAMP:20260425T093154
CREATED:20220811T201754Z
LAST-MODIFIED:20220801T172930Z
UID:24183-1673973000-1673976600@www.adventistedge.com
SUMMARY:New Teacher Cohort Meeting
DESCRIPTION:
URL:https://www.adventistedge.com/event/new-teacher-cohort-meeting-3/
LOCATION:Zoom Meeting
END:VEVENT
BEGIN:VEVENT
DTSTART;TZID=America/New_York:20230103T170000
DTEND;TZID=America/New_York:20230103T180000
DTSTAMP:20260425T093154
CREATED:20220728T164303Z
LAST-MODIFIED:20220728T150349Z
UID:24149-1672765200-1672768800@www.adventistedge.com
SUMMARY:New Principal Cohort Meeting
DESCRIPTION:
URL:https://www.adventistedge.com/event/new-principal-cohort-meeting-5/
LOCATION:Zoom Meeting
END:VEVENT
BEGIN:VEVENT
DTSTART;TZID=America/New_York:20221101T170000
DTEND;TZID=America/New_York:20221101T180000
DTSTAMP:20260425T093154
CREATED:20220728T164250Z
LAST-MODIFIED:20220728T145834Z
UID:24146-1667322000-1667325600@www.adventistedge.com
SUMMARY:New Principal Cohort Meeting
DESCRIPTION:
URL:https://www.adventistedge.com/event/new-principal-cohort-meeting-4/
LOCATION:Zoom Meeting
END:VEVENT
BEGIN:VEVENT
DTSTART;TZID=America/New_York:20221025T163000
DTEND;TZID=America/New_York:20221025T173000
DTSTAMP:20260425T093154
CREATED:20220811T201817Z
LAST-MODIFIED:20220801T172433Z
UID:24181-1666715400-1666719000@www.adventistedge.com
SUMMARY:New Teacher Cohort Meeting
DESCRIPTION:
URL:https://www.adventistedge.com/event/new-teacher-cohort-meeting-2/
LOCATION:Zoom Meeting
END:VEVENT
BEGIN:VEVENT
DTSTART;TZID=America/New_York:20221004T170000
DTEND;TZID=America/New_York:20221004T180000
DTSTAMP:20260425T093154
CREATED:20220728T164238Z
LAST-MODIFIED:20220728T145526Z
UID:24143-1664902800-1664906400@www.adventistedge.com
SUMMARY:New Principal Cohort Meeting
DESCRIPTION:
URL:https://www.adventistedge.com/event/new-principal-cohort-meeting-3/
LOCATION:Zoom Meeting
END:VEVENT
BEGIN:VEVENT
DTSTART;VALUE=DATE:20220922
DTEND;VALUE=DATE:20220924
DTSTAMP:20260425T093154
CREATED:20220811T201739Z
LAST-MODIFIED:20220801T172121Z
UID:24179-1663804800-1663977599@www.adventistedge.com
SUMMARY:New Teacher Cohort Meeting
DESCRIPTION:
URL:https://www.adventistedge.com/event/new-teacher-cohort-meeting/
LOCATION:FL
END:VEVENT
BEGIN:VEVENT
DTSTART;TZID=America/New_York:20220906T170000
DTEND;TZID=America/New_York:20220906T180000
DTSTAMP:20260425T093154
CREATED:20220728T164224Z
LAST-MODIFIED:20220728T145311Z
UID:24140-1662483600-1662487200@www.adventistedge.com
SUMMARY:New Principal Cohort Meeting
DESCRIPTION:
URL:https://www.adventistedge.com/event/new-principal-cohort-meeting-2/
LOCATION:Zoom Meeting
END:VEVENT
BEGIN:VEVENT
DTSTART;TZID=America/New_York:20220823T100000
DTEND;TZID=America/New_York:20220824T160000
DTSTAMP:20260425T093154
CREATED:20210127T135708Z
LAST-MODIFIED:20210125T192201Z
UID:23010-1661248800-1661356800@www.adventistedge.com
SUMMARY:SU ECE Advisory
DESCRIPTION:This annual\, fall ECA online meeting will consist of four two-hour sessions\, spread over two days\, i.e.\, from 10:00 – 12 noon and 2:00 – 4:00 p.m. (Eastern Time) each day.
URL:https://www.adventistedge.com/event/su-ece-advisory-3/
LOCATION:FL
CATEGORIES:Early Childhood Education
END:VEVENT
BEGIN:VEVENT
DTSTART;TZID=America/New_York:20220802T170000
DTEND;TZID=America/New_York:20220802T180000
DTSTAMP:20260425T093154
CREATED:20220728T164206Z
LAST-MODIFIED:20220728T150040Z
UID:24137-1659459600-1659463200@www.adventistedge.com
SUMMARY:New Principal Cohort Meeting
DESCRIPTION:
URL:https://www.adventistedge.com/event/new-principal-cohort-meeting/
LOCATION:Zoom Meeting
END:VEVENT
BEGIN:VEVENT
DTSTART;VALUE=DATE:20220725
DTEND;VALUE=DATE:20220726
DTSTAMP:20260425T093154
CREATED:20201111T214149Z
LAST-MODIFIED:20201111T204945Z
UID:22945-1658707200-1658793599@www.adventistedge.com
SUMMARY:Commission on Accreditation
DESCRIPTION:
URL:https://www.adventistedge.com/event/commission-on-accreditation-2/
LOCATION:Columbia\, MD
CATEGORIES:Education
END:VEVENT
BEGIN:VEVENT
DTSTART;VALUE=DATE:20220606
DTEND;VALUE=DATE:20220624
DTSTAMP:20260425T093154
CREATED:20201111T214246Z
LAST-MODIFIED:20201111T204836Z
UID:22943-1654473600-1656028799@www.adventistedge.com
SUMMARY:NAD Summer Curriculum Committee
DESCRIPTION:
URL:https://www.adventistedge.com/event/nad-summer-curriculum-committee-2/
LOCATION:TBD
CATEGORIES:Education
END:VEVENT
BEGIN:VEVENT
DTSTART;VALUE=DATE:20220520
DTEND;VALUE=DATE:20220521
DTSTAMP:20260425T093154
CREATED:20210201T165637Z
LAST-MODIFIED:20210201T142435Z
UID:23058-1653004800-1653091199@www.adventistedge.com
SUMMARY:Last Day of School
DESCRIPTION:
URL:https://www.adventistedge.com/event/last-day-of-school-3/
LOCATION:FL
CATEGORIES:Education
END:VEVENT
BEGIN:VEVENT
DTSTART;TZID=America/New_York:20220518T080000
DTEND;TZID=America/New_York:20220519T170000
DTSTAMP:20260425T093154
CREATED:20201111T214353Z
LAST-MODIFIED:20201111T204717Z
UID:22941-1652860800-1652979600@www.adventistedge.com
SUMMARY:UDOEC
DESCRIPTION:
URL:https://www.adventistedge.com/event/udoec-12/
LOCATION:TBD
CATEGORIES:Education
END:VEVENT
BEGIN:VEVENT
DTSTART;TZID=America/New_York:20220516T080000
DTEND;TZID=America/New_York:20220518T170000
DTSTAMP:20260425T093154
CREATED:20201111T214229Z
LAST-MODIFIED:20201111T204556Z
UID:22939-1652688000-1652893200@www.adventistedge.com
SUMMARY:NAD Education Advisory
DESCRIPTION:
URL:https://www.adventistedge.com/event/nad-education-advisory-2/
LOCATION:TBD
CATEGORIES:Education
END:VEVENT
BEGIN:VEVENT
DTSTART;TZID=America/New_York:20220412T093000
DTEND;TZID=America/New_York:20220412T150000
DTSTAMP:20260425T093154
CREATED:20210127T135844Z
LAST-MODIFIED:20211103T125851Z
UID:23031-1649755800-1649775600@www.adventistedge.com
SUMMARY:TAG ECE Area In-service Mtg
DESCRIPTION:This is the all-encompassing Georgia Early Childhood Educators’ meeting held at the Southern Union Conference office\, in Peachtree Corners\, GA
URL:https://www.adventistedge.com/event/tag-ece-area-in-service-mtg-2/
LOCATION:FL
CATEGORIES:Early Childhood Education
END:VEVENT
BEGIN:VEVENT
DTSTART;TZID=America/New_York:20220331T100000
DTEND;TZID=America/New_York:20220331T150000
DTSTAMP:20260425T093154
CREATED:20211103T130215Z
LAST-MODIFIED:20211103T130215Z
UID:23964-1648720800-1648738800@www.adventistedge.com
SUMMARY:KT ECE Area In-service Mtg
DESCRIPTION:Kentucky and Tennessee Early Childhood Educators’ meeting held at the South Central Conference office in Nashville\, TN
URL:https://www.adventistedge.com/event/kt-ece-area-in-service-mtg/
LOCATION:FL
END:VEVENT
BEGIN:VEVENT
DTSTART;TZID=America/New_York:20220329T093000
DTEND;TZID=America/New_York:20220329T153000
DTSTAMP:20260425T093154
CREATED:20210127T135557Z
LAST-MODIFIED:20210125T200211Z
UID:23029-1648546200-1648567800@www.adventistedge.com
SUMMARY:FL ECE Area In-service Mtg
DESCRIPTION:This is the Florida Early Childhood Educators’ meeting held at the Florida Conference office\, in Altamonte Springs\, FL.
URL:https://www.adventistedge.com/event/fl-ece-area-in-service-mtg/
LOCATION:FL
CATEGORIES:Early Childhood Education
END:VEVENT
BEGIN:VEVENT
DTSTART;TZID=America/New_York:20220322T093000
DTEND;TZID=America/New_York:20220322T153000
DTSTAMP:20260425T093154
CREATED:20210127T134749Z
LAST-MODIFIED:20210125T200025Z
UID:23027-1647941400-1647963000@www.adventistedge.com
SUMMARY:C ECE Area In-service Mtg
DESCRIPTION:This is the North and South Carolina Early Childhood Educators’ meeting held at the Carolina Conference office\, in Charlotte\, NC.
URL:https://www.adventistedge.com/event/c-ece-area-in-service-mtg/
LOCATION:FL
CATEGORIES:Early Childhood Education
END:VEVENT
BEGIN:VEVENT
DTSTART;VALUE=DATE:20220314
DTEND;VALUE=DATE:20220319
DTSTAMP:20260425T093154
CREATED:20210201T165739Z
LAST-MODIFIED:20210201T142312Z
UID:23056-1647216000-1647647999@www.adventistedge.com
SUMMARY:Spring Break
DESCRIPTION:
URL:https://www.adventistedge.com/event/spring-break/
LOCATION:FL
CATEGORIES:Education
END:VEVENT
BEGIN:VEVENT
DTSTART;TZID=America/New_York:20220308T093000
DTEND;TZID=America/New_York:20220308T153000
DTSTAMP:20260425T093154
CREATED:20210127T135812Z
LAST-MODIFIED:20210125T200737Z
UID:23033-1646731800-1646753400@www.adventistedge.com
SUMMARY:SW ECE Area In-service Mtg
DESCRIPTION:This is the Alabama and Mississippi Early Childhood Educators’ meeting held at the Gulf States Conference office\, in Montgomery\, AL.
URL:https://www.adventistedge.com/event/sw-ece-area-in-service-mtg/
LOCATION:FL
CATEGORIES:Early Childhood Education
END:VEVENT
END:VCALENDAR