BEGIN:VCALENDAR
VERSION:2.0
PRODID:-//Adventist Edge - ECPv6.15.13//NONSGML v1.0//EN
CALSCALE:GREGORIAN
METHOD:PUBLISH
X-ORIGINAL-URL:https://www.adventistedge.com
X-WR-CALDESC:Events for Adventist Edge
REFRESH-INTERVAL;VALUE=DURATION:PT1H
X-Robots-Tag:noindex
X-PUBLISHED-TTL:PT1H
BEGIN:VTIMEZONE
TZID:America/New_York
BEGIN:DAYLIGHT
TZOFFSETFROM:-0500
TZOFFSETTO:-0400
TZNAME:EDT
DTSTART:20200308T070000
END:DAYLIGHT
BEGIN:STANDARD
TZOFFSETFROM:-0400
TZOFFSETTO:-0500
TZNAME:EST
DTSTART:20201101T060000
END:STANDARD
BEGIN:DAYLIGHT
TZOFFSETFROM:-0500
TZOFFSETTO:-0400
TZNAME:EDT
DTSTART:20210314T070000
END:DAYLIGHT
BEGIN:STANDARD
TZOFFSETFROM:-0400
TZOFFSETTO:-0500
TZNAME:EST
DTSTART:20211107T060000
END:STANDARD
BEGIN:DAYLIGHT
TZOFFSETFROM:-0500
TZOFFSETTO:-0400
TZNAME:EDT
DTSTART:20220313T070000
END:DAYLIGHT
BEGIN:STANDARD
TZOFFSETFROM:-0400
TZOFFSETTO:-0500
TZNAME:EST
DTSTART:20221106T060000
END:STANDARD
BEGIN:DAYLIGHT
TZOFFSETFROM:-0500
TZOFFSETTO:-0400
TZNAME:EDT
DTSTART:20230312T070000
END:DAYLIGHT
BEGIN:STANDARD
TZOFFSETFROM:-0400
TZOFFSETTO:-0500
TZNAME:EST
DTSTART:20231105T060000
END:STANDARD
END:VTIMEZONE
BEGIN:VEVENT
DTSTART;VALUE=DATE:20220606
DTEND;VALUE=DATE:20220624
DTSTAMP:20260425T120447
CREATED:20201111T214246Z
LAST-MODIFIED:20201111T204836Z
UID:22943-1654473600-1656028799@www.adventistedge.com
SUMMARY:NAD Summer Curriculum Committee
DESCRIPTION:
URL:https://www.adventistedge.com/event/nad-summer-curriculum-committee-2/
LOCATION:TBD
CATEGORIES:Education
END:VEVENT
BEGIN:VEVENT
DTSTART;VALUE=DATE:20220520
DTEND;VALUE=DATE:20220521
DTSTAMP:20260425T120447
CREATED:20210201T165637Z
LAST-MODIFIED:20210201T142435Z
UID:23058-1653004800-1653091199@www.adventistedge.com
SUMMARY:Last Day of School
DESCRIPTION:
URL:https://www.adventistedge.com/event/last-day-of-school-3/
CATEGORIES:Education
END:VEVENT
BEGIN:VEVENT
DTSTART;TZID=America/New_York:20220518T080000
DTEND;TZID=America/New_York:20220519T170000
DTSTAMP:20260425T120447
CREATED:20201111T214353Z
LAST-MODIFIED:20201111T204717Z
UID:22941-1652860800-1652979600@www.adventistedge.com
SUMMARY:UDOEC
DESCRIPTION:
URL:https://www.adventistedge.com/event/udoec-12/
LOCATION:TBD
CATEGORIES:Education
END:VEVENT
BEGIN:VEVENT
DTSTART;TZID=America/New_York:20220516T080000
DTEND;TZID=America/New_York:20220518T170000
DTSTAMP:20260425T120447
CREATED:20201111T214229Z
LAST-MODIFIED:20201111T204556Z
UID:22939-1652688000-1652893200@www.adventistedge.com
SUMMARY:NAD Education Advisory
DESCRIPTION:
URL:https://www.adventistedge.com/event/nad-education-advisory-2/
LOCATION:TBD
CATEGORIES:Education
END:VEVENT
BEGIN:VEVENT
DTSTART;TZID=America/New_York:20220412T093000
DTEND;TZID=America/New_York:20220412T150000
DTSTAMP:20260425T120447
CREATED:20210127T135844Z
LAST-MODIFIED:20211103T125851Z
UID:23031-1649755800-1649775600@www.adventistedge.com
SUMMARY:TAG ECE Area In-service Mtg
DESCRIPTION:This is the all-encompassing Georgia Early Childhood Educators’ meeting held at the Southern Union Conference office\, in Peachtree Corners\, GA
URL:https://www.adventistedge.com/event/tag-ece-area-in-service-mtg-2/
CATEGORIES:Early Childhood Education
END:VEVENT
BEGIN:VEVENT
DTSTART;TZID=America/New_York:20220331T100000
DTEND;TZID=America/New_York:20220331T150000
DTSTAMP:20260425T120447
CREATED:20211103T130215Z
LAST-MODIFIED:20211103T130215Z
UID:23964-1648720800-1648738800@www.adventistedge.com
SUMMARY:KT ECE Area In-service Mtg
DESCRIPTION:Kentucky and Tennessee Early Childhood Educators’ meeting held at the South Central Conference office in Nashville\, TN
URL:https://www.adventistedge.com/event/kt-ece-area-in-service-mtg/
END:VEVENT
BEGIN:VEVENT
DTSTART;TZID=America/New_York:20220329T093000
DTEND;TZID=America/New_York:20220329T153000
DTSTAMP:20260425T120447
CREATED:20210127T135557Z
LAST-MODIFIED:20210125T200211Z
UID:23029-1648546200-1648567800@www.adventistedge.com
SUMMARY:FL ECE Area In-service Mtg
DESCRIPTION:This is the Florida Early Childhood Educators’ meeting held at the Florida Conference office\, in Altamonte Springs\, FL.
URL:https://www.adventistedge.com/event/fl-ece-area-in-service-mtg/
CATEGORIES:Early Childhood Education
END:VEVENT
BEGIN:VEVENT
DTSTART;TZID=America/New_York:20220322T093000
DTEND;TZID=America/New_York:20220322T153000
DTSTAMP:20260425T120447
CREATED:20210127T134749Z
LAST-MODIFIED:20210125T200025Z
UID:23027-1647941400-1647963000@www.adventistedge.com
SUMMARY:C ECE Area In-service Mtg
DESCRIPTION:This is the North and South Carolina Early Childhood Educators’ meeting held at the Carolina Conference office\, in Charlotte\, NC.
URL:https://www.adventistedge.com/event/c-ece-area-in-service-mtg/
CATEGORIES:Early Childhood Education
END:VEVENT
BEGIN:VEVENT
DTSTART;VALUE=DATE:20220314
DTEND;VALUE=DATE:20220319
DTSTAMP:20260425T120447
CREATED:20210201T165739Z
LAST-MODIFIED:20210201T142312Z
UID:23056-1647216000-1647647999@www.adventistedge.com
SUMMARY:Spring Break
DESCRIPTION:
URL:https://www.adventistedge.com/event/spring-break/
CATEGORIES:Education
END:VEVENT
BEGIN:VEVENT
DTSTART;TZID=America/New_York:20220308T093000
DTEND;TZID=America/New_York:20220308T153000
DTSTAMP:20260425T120447
CREATED:20210127T135812Z
LAST-MODIFIED:20210125T200737Z
UID:23033-1646731800-1646753400@www.adventistedge.com
SUMMARY:SW ECE Area In-service Mtg
DESCRIPTION:This is the Alabama and Mississippi Early Childhood Educators’ meeting held at the Gulf States Conference office\, in Montgomery\, AL.
URL:https://www.adventistedge.com/event/sw-ece-area-in-service-mtg/
CATEGORIES:Early Childhood Education
END:VEVENT
BEGIN:VEVENT
DTSTART;VALUE=DATE:20220221
DTEND;VALUE=DATE:20220222
DTSTAMP:20260425T120447
CREATED:20210201T165709Z
LAST-MODIFIED:20210201T142224Z
UID:23054-1645401600-1645487999@www.adventistedge.com
SUMMARY:President's Day
DESCRIPTION:School Holiday
URL:https://www.adventistedge.com/event/presidents-day-2/
CATEGORIES:Education
END:VEVENT
BEGIN:VEVENT
DTSTART;VALUE=DATE:20220215
DTEND;VALUE=DATE:20220218
DTSTAMP:20260425T120447
CREATED:20201111T214336Z
LAST-MODIFIED:20201111T204354Z
UID:22936-1644883200-1645142399@www.adventistedge.com
SUMMARY:UDOEC
DESCRIPTION:
URL:https://www.adventistedge.com/event/udoec-11/
LOCATION:Santa Cruz\, CA
CATEGORIES:Education
END:VEVENT
BEGIN:VEVENT
DTSTART;TZID=America/New_York:20220209T090000
DTEND;TZID=America/New_York:20220209T170000
DTSTAMP:20260425T120447
CREATED:20220131T200857Z
LAST-MODIFIED:20220131T200857Z
UID:24030-1644397200-1644426000@www.adventistedge.com
SUMMARY:Administrative Assistant's In-Service
DESCRIPTION:2022 Southern Union Office of Education \nAdministrative Assistant’s In-Service Virtual Meetings
URL:https://www.adventistedge.com/event/administrative-assistants-in-service-2/
LOCATION:Zoom
END:VEVENT
BEGIN:VEVENT
DTSTART;TZID=America/New_York:20220208T090000
DTEND;TZID=America/New_York:20220208T170000
DTSTAMP:20260425T120447
CREATED:20220131T200641Z
LAST-MODIFIED:20220131T200641Z
UID:24028-1644310800-1644339600@www.adventistedge.com
SUMMARY:Administrative Assistant's In-Service
DESCRIPTION:2022 Southern Union Office of Education \nAdministrative Assistant’s In-Service Virtual Meetings
URL:https://www.adventistedge.com/event/administrative-assistants-in-service/
LOCATION:Zoom
END:VEVENT
BEGIN:VEVENT
DTSTART;TZID=America/New_York:20220119T100000
DTEND;TZID=America/New_York:20220119T160000
DTSTAMP:20260425T120447
CREATED:20211103T152639Z
LAST-MODIFIED:20211103T152639Z
UID:23968-1642586400-1642608000@www.adventistedge.com
SUMMARY:ECE Advisory
DESCRIPTION:This meeting will be via Zoom
URL:https://www.adventistedge.com/event/ece-advisory-2/
END:VEVENT
BEGIN:VEVENT
DTSTART;VALUE=DATE:20220119
DTEND;VALUE=DATE:20220123
DTSTAMP:20260425T120447
CREATED:20180913T185749Z
LAST-MODIFIED:20200319T141719Z
UID:18959-1642550400-1642895999@www.adventistedge.com
SUMMARY:Academy Prayer Conference
DESCRIPTION:
URL:https://www.adventistedge.com/event/academy-prayer-conference-3/
LOCATION:Camp Kulaqua
CATEGORIES:Education
END:VEVENT
BEGIN:VEVENT
DTSTART;TZID=America/New_York:20220118T100000
DTEND;TZID=America/New_York:20220118T160000
DTSTAMP:20260425T120447
CREATED:20211103T150017Z
LAST-MODIFIED:20211103T152718Z
UID:23966-1642500000-1642521600@www.adventistedge.com
SUMMARY:ECE Advisory
DESCRIPTION:This meeting will be via Zoom
URL:https://www.adventistedge.com/event/ece-advisory/
END:VEVENT
BEGIN:VEVENT
DTSTART;VALUE=DATE:20220117
DTEND;VALUE=DATE:20220118
DTSTAMP:20260425T120447
CREATED:20210201T165653Z
LAST-MODIFIED:20210201T142549Z
UID:23060-1642377600-1642463999@www.adventistedge.com
SUMMARY:Martin Luther King\, Jr. Day
DESCRIPTION:School holiday
URL:https://www.adventistedge.com/event/martin-luther-king-jr-day-4/
CATEGORIES:Education
END:VEVENT
BEGIN:VEVENT
DTSTART;VALUE=DATE:20220103
DTEND;VALUE=DATE:20220104
DTSTAMP:20260425T120447
CREATED:20210201T165724Z
LAST-MODIFIED:20210201T142012Z
UID:23050-1641168000-1641254399@www.adventistedge.com
SUMMARY:Second Semester begins
DESCRIPTION:
URL:https://www.adventistedge.com/event/second-semester-begins-3/
CATEGORIES:Education
END:VEVENT
BEGIN:VEVENT
DTSTART;VALUE=DATE:20211220
DTEND;VALUE=DATE:20220101
DTSTAMP:20260425T120447
CREATED:20210201T165518Z
LAST-MODIFIED:20210201T141926Z
UID:23048-1639958400-1640995199@www.adventistedge.com
SUMMARY:Christmas Vacation
DESCRIPTION:
URL:https://www.adventistedge.com/event/christmas-vacation/
CATEGORIES:Education
END:VEVENT
BEGIN:VEVENT
DTSTART;VALUE=DATE:20211217
DTEND;VALUE=DATE:20211218
DTSTAMP:20260425T120447
CREATED:20210201T165606Z
LAST-MODIFIED:20210201T141236Z
UID:23046-1639699200-1639785599@www.adventistedge.com
SUMMARY:First semester ends
DESCRIPTION:
URL:https://www.adventistedge.com/event/first-semester-ends-4/
CATEGORIES:Education
END:VEVENT
BEGIN:VEVENT
DTSTART;VALUE=DATE:20211125
DTEND;VALUE=DATE:20211127
DTSTAMP:20260425T120447
CREATED:20210201T165755Z
LAST-MODIFIED:20210201T141157Z
UID:23044-1637798400-1637971199@www.adventistedge.com
SUMMARY:Thanksgiving Recess
DESCRIPTION:
URL:https://www.adventistedge.com/event/thanksgiving-recess-2/
CATEGORIES:Education
END:VEVENT
BEGIN:VEVENT
DTSTART;TZID=America/New_York:20211029T083000
DTEND;TZID=America/New_York:20211029T163000
DTSTAMP:20260425T120447
CREATED:20201111T214206Z
LAST-MODIFIED:20201111T203954Z
UID:22934-1635496200-1635525000@www.adventistedge.com
SUMMARY:NAD BOE
DESCRIPTION:
URL:https://www.adventistedge.com/event/nad-boe-3/
LOCATION:Columbia\, MD
CATEGORIES:Education
END:VEVENT
BEGIN:VEVENT
DTSTART;TZID=America/New_York:20211029T080000
DTEND;TZID=America/New_York:20211103T170000
DTSTAMP:20260425T120447
CREATED:20201111T214303Z
LAST-MODIFIED:20201111T203811Z
UID:22932-1635494400-1635958800@www.adventistedge.com
SUMMARY:NAD Year-End Meeting
DESCRIPTION:
URL:https://www.adventistedge.com/event/nad-year-end-meeting-4/
LOCATION:Columbia\, MD
CATEGORIES:Education
END:VEVENT
BEGIN:VEVENT
DTSTART;TZID=America/New_York:20211026T100000
DTEND;TZID=America/New_York:20211026T150000
DTSTAMP:20260425T120447
CREATED:20210127T135616Z
LAST-MODIFIED:20210125T193639Z
UID:23017-1635242400-1635260400@www.adventistedge.com
SUMMARY:KT ECE Area ECE In-service Mtg
DESCRIPTION:This is the Kentucky and Tennessee Early Childhood Educators’ meeting held at the Kentucky-Tennessee Conference office\, in Goodlettsville\, TN.
URL:https://www.adventistedge.com/event/kt-ece-area-ece-in-service-mtg/
CATEGORIES:Early Childhood Education
END:VEVENT
BEGIN:VEVENT
DTSTART;TZID=America/New_York:20211014T093000
DTEND;TZID=America/New_York:20211014T150000
DTSTAMP:20260425T120447
CREATED:20210127T135828Z
LAST-MODIFIED:20210125T194325Z
UID:23023-1634203800-1634223600@www.adventistedge.com
SUMMARY:TAG ECE Area In-service Mtg
DESCRIPTION:This is the all-encompassing Georgia Early Childhood Educators’ meeting held at the Southern Union Conference office\, in Peachtree Corners\, GA.
URL:https://www.adventistedge.com/event/tag-ece-area-in-service-mtg/
CATEGORIES:Early Childhood Education
END:VEVENT
BEGIN:VEVENT
DTSTART;TZID=America/New_York:20211012T093000
DTEND;TZID=America/New_York:20211012T153000
DTSTAMP:20260425T120447
CREATED:20210127T134806Z
LAST-MODIFIED:20210125T194002Z
UID:23021-1634031000-1634052600@www.adventistedge.com
SUMMARY:FL ECE Area ECE In-service Mtg
DESCRIPTION:This is the Florida Early Childhood Educators’ meeting held at the Southeastern Conference office\, in Mt. Dora\, FL
URL:https://www.adventistedge.com/event/fl-ece-area-ece-in-service-mtg/
CATEGORIES:Early Childhood Education
END:VEVENT
BEGIN:VEVENT
DTSTART;TZID=America/New_York:20211005T093000
DTEND;TZID=America/New_York:20211005T153000
DTSTAMP:20260425T120447
CREATED:20210127T134726Z
LAST-MODIFIED:20210125T193404Z
UID:23015-1633426200-1633447800@www.adventistedge.com
SUMMARY:C ECE Area ECE In-service Mtg
DESCRIPTION:This is the North and South Carolina Early Childhood Educators’ meeting held at the Carolina Conference office\, in Charlotte\, NC.
URL:https://www.adventistedge.com/event/c-ece-area-ece-in-service-mtg/
CATEGORIES:Early Childhood Education
END:VEVENT
BEGIN:VEVENT
DTSTART;TZID=America/New_York:20210930T140000
DTEND;TZID=America/New_York:20210930T160000
DTSTAMP:20260425T120447
CREATED:20210805T213918Z
LAST-MODIFIED:20210920T225023Z
UID:23865-1633010400-1633017600@www.adventistedge.com
SUMMARY:CANCELLED - Accessing Your Digital Library Resources Training
DESCRIPTION:Who needs to attend? \n\nAnyone who manages the library\nPrincipals\nHead Teachers\nTeachers\n\nWhy do they need to attend? \n\nTo learn what digital resources are available\n\nWhat you’ll learn: \n\nAn overview of the digital resources\nIdeas on how to use resources in the classroom\nBoost student learning with:\n\n \nTeach Students how to: \n\nDevelop 21st century literacy skills such as visual\, digital\, and multimedia literacy\nSearch curated online resources to find relevant information about their topic\nWork collaboratively to create and deliver media-rich presentations in order to share new ideas and teach others\n\nParticipation is limited. Slots fill up quickly so register today! \nOnly registered participants will be sent a Zoom link to the training. \nEach participant receives a recording of the training session and a CEU certificate upon completion. \nChoose from training dates: \n\nThursday\, 09/30/2021: 2pm to 4pm EST
URL:https://www.adventistedge.com/event/23865/
LOCATION:Zoom
ORGANIZER;CN="SULIR":MAILTO:lirsupport@southernunion.com
END:VEVENT
BEGIN:VEVENT
DTSTART;TZID=America/New_York:20210929T150000
DTEND;TZID=America/New_York:20210929T170000
DTSTAMP:20260425T120447
CREATED:20210805T213213Z
LAST-MODIFIED:20210920T224453Z
UID:23860-1632927600-1632934800@www.adventistedge.com
SUMMARY:Accessing Your Digital Library Resources Training
DESCRIPTION:Who needs to attend? \n\nAnyone who manages the library\nPrincipals and Head Teachers\nTeachers\n\nWhy do they need to attend? \n\nTo learn what digital resources are available\n\nWhat you’ll learn: \n\nAn overview of the digital resources\nIdeas on how to use resources in the classroom\nBoost student learning with:\n\n \nTeach Students how to: \n\nDevelop 21st century literacy skills such as visual\, digital\, and multimedia literacy\nSearch curated online resources to find relevant information about their topic\nWork collaboratively to create and deliver media-rich presentations in order to share new ideas and teach others\n\nParticipation is limited. Slots fill up quickly so register today! \nOnly registered participants will be sent a Zoom link to the training. \nEach participant receives a recording of the training session and a CEU certificate upon completion. \nChoose from training dates: \n\nWednesday\, 09/29/2021: 10am to 12pm EST 3PM TO 5PM ET\n\nThursday\, 09/30/2021: 2pm to 4pm EST
URL:https://www.adventistedge.com/event/23860/
LOCATION:Zoom
ORGANIZER;CN="SULIR":MAILTO:lirsupport@southernunion.com
END:VEVENT
END:VCALENDAR