BEGIN:VCALENDAR
VERSION:2.0
PRODID:-//Adventist Edge - ECPv6.15.13//NONSGML v1.0//EN
CALSCALE:GREGORIAN
METHOD:PUBLISH
X-WR-CALNAME:Adventist Edge
X-ORIGINAL-URL:https://www.adventistedge.com
X-WR-CALDESC:Events for Adventist Edge
REFRESH-INTERVAL;VALUE=DURATION:PT1H
X-Robots-Tag:noindex
X-PUBLISHED-TTL:PT1H
BEGIN:VTIMEZONE
TZID:America/New_York
BEGIN:DAYLIGHT
TZOFFSETFROM:-0500
TZOFFSETTO:-0400
TZNAME:EDT
DTSTART:20200308T070000
END:DAYLIGHT
BEGIN:STANDARD
TZOFFSETFROM:-0400
TZOFFSETTO:-0500
TZNAME:EST
DTSTART:20201101T060000
END:STANDARD
BEGIN:DAYLIGHT
TZOFFSETFROM:-0500
TZOFFSETTO:-0400
TZNAME:EDT
DTSTART:20210314T070000
END:DAYLIGHT
BEGIN:STANDARD
TZOFFSETFROM:-0400
TZOFFSETTO:-0500
TZNAME:EST
DTSTART:20211107T060000
END:STANDARD
BEGIN:DAYLIGHT
TZOFFSETFROM:-0500
TZOFFSETTO:-0400
TZNAME:EDT
DTSTART:20220313T070000
END:DAYLIGHT
BEGIN:STANDARD
TZOFFSETFROM:-0400
TZOFFSETTO:-0500
TZNAME:EST
DTSTART:20221106T060000
END:STANDARD
END:VTIMEZONE
BEGIN:VEVENT
DTSTART;VALUE=DATE:20210620
DTEND;VALUE=DATE:20210621
DTSTAMP:20260425T171115
CREATED:20190805T134253Z
LAST-MODIFIED:20200331T211206Z
UID:20130-1624147200-1624233599@www.adventistedge.com
SUMMARY:Father's Day
DESCRIPTION:
URL:https://www.adventistedge.com/event/fathers-day-3/
CATEGORIES:Education
END:VEVENT
BEGIN:VEVENT
DTSTART;TZID=America/New_York:20210616T140000
DTEND;TZID=America/New_York:20210616T160000
DTSTAMP:20260425T171115
CREATED:20210615T161215Z
LAST-MODIFIED:20210615T161215Z
UID:23411-1623852000-1623859200@www.adventistedge.com
SUMMARY:RESCHEDULED TBA - Accessing Your Digital Library Resources Training
DESCRIPTION:RESCHEDULED TBA – Accessing Your Digital Library Resources Training
URL:https://www.adventistedge.com/event/rescheduled-tba-accessing-your-digital-library-resources-training/
LOCATION:Zoom
ORGANIZER;CN="SULIR":MAILTO:lirsupport@southernunion.com
END:VEVENT
BEGIN:VEVENT
DTSTART;TZID=America/New_York:20210615T150000
DTEND;TZID=America/New_York:20210615T160000
DTSTAMP:20260425T171115
CREATED:20210506T164417Z
LAST-MODIFIED:20210506T164417Z
UID:23310-1623769200-1623772800@www.adventistedge.com
SUMMARY:MackinVIA.com Training
DESCRIPTION:Who needs to attend? \n\nLibrary Managers\nAnyone who manages the library\nPrincipals\nHead Teachers\nTeachers\n\nWhy do they need to attend? \n\nTo learn to access and manage digital resources\n\nWhat you’ll learn: \n\nHow to navigate\, search\, and check-out in MackinVIA\nHow to manage MackinVIA\, create back-packs\, assignments\, and groups\nHow to activate/deactivate resources\nHow to access MackinVIA support\n\nParticipation is limited. Slots fill up quickly so register today! \nOnly registered participants will be sent a Zoom link to the training. \nEach participant receives a recording of the training session and a CEU certificate upon completion. \nChoose from training dates: \n\nTuesday\, 06/15/2021: 3pm to 4pm EST
URL:https://www.adventistedge.com/event/mackinvia-com-training-8/
LOCATION:Zoom
ORGANIZER;CN="SULIR":MAILTO:lirsupport@southernunion.com
END:VEVENT
BEGIN:VEVENT
DTSTART;TZID=America/New_York:20210615T140000
DTEND;TZID=America/New_York:20210615T150000
DTSTAMP:20260425T171115
CREATED:20210506T150400Z
LAST-MODIFIED:20210506T161243Z
UID:23300-1623765600-1623769200@www.adventistedge.com
SUMMARY:Mackin.com Training
DESCRIPTION:Who needs to attend? \n\nPrincipals\nHead Teachers\nTeachers\nAnyone who manages the library\n\nWhy do they need to attend? \n\nTo explore the thousands of titles Mackin has to offer\nTo search\, find\, and select materials that support curricula\nTo connect with and utilize the over 100 librarians Mackin employs\n\nWhat you’ll learn: \n\nTo view OMS transaction history\nHow to search Mackin.com for materials\nHow to create lists\nHow to order materials\nHow to receive materials\nHow to contact Mackin.com support\n\nParticipation is limited. Slots fill up quickly so register today! \nOnly registered participants will be sent a Zoom link to the training. \nEach participant receives a recording of the training session and a CEU certificate upon completion. \nChoose from training dates: \n\nTuesday\, 06/15/2021: 10am to 11am EST\n\n 
URL:https://www.adventistedge.com/event/23300/
LOCATION:Zoom
ORGANIZER;CN="SULIR":MAILTO:lirsupport@southernunion.com
END:VEVENT
BEGIN:VEVENT
DTSTART;TZID=America/New_York:20210614T140000
DTEND;TZID=America/New_York:20210614T160000
DTSTAMP:20260425T171115
CREATED:20210505T215115Z
LAST-MODIFIED:20210506T140619Z
UID:23291-1623679200-1623686400@www.adventistedge.com
SUMMARY:Organizing Your Library with M5
DESCRIPTION:STOP: This training is for those who have already had M5 Basic On-boarding. \nWho needs to attend? \n\nLibrary Managers\nLibrary Volunteers\nAnyone who manages the library\n\nWhy do they need to attend? \n\nTo learn to categorize\, define and solve library issues\nTo learn to organize your library\n\nWhat you’ll learn: \n\nHow to catalog books (edit/add/delete records)\nHow to upload MARC records\nHow to generate barcode and call numbers\n\nParticipation is limited. Slots are filling up quickly so register today! \nOnly registered participants will be sent a link to the training. \nChoose from training times and dates: \n\nMonday\, 06/14/2021: 2pm to 4pm EST
URL:https://www.adventistedge.com/event/23291/
LOCATION:Zoom
ORGANIZER;CN="SULIR":MAILTO:lirsupport@southernunion.com
END:VEVENT
BEGIN:VEVENT
DTSTART;TZID=America/New_York:20210614T100000
DTEND;TZID=America/New_York:20210614T110000
DTSTAMP:20260425T171115
CREATED:20210505T213335Z
LAST-MODIFIED:20210505T213456Z
UID:23284-1623664800-1623668400@www.adventistedge.com
SUMMARY:M5 Basic On-Boarding Training
DESCRIPTION:Who needs to attend? \n\nLibrary Managers\nLibrary Volunteers\nAnyone who manages the library\n\nWhy do they need to attend? \n\nTo learn how to access your library page\nTo learn how to use M5 on Day One of school\nTo learn how to electronically circulate (check-in/check-out) materials\nTo learn how to manage your patrons and much more\n\nWhat you’ll learn: \n\nManage Patrons\nCirculation\nGenerate and print barcode and spine labels\nEdit and customize your library page\n\nParticipation is limited. Slots fill up quickly so register today! \nOnly registered participants will be sent a link to the training. \nSelect from training times and dates: \n\nMonday\, 06/14/2021\, 10am to 11am EST
URL:https://www.adventistedge.com/event/m5-basic-on-boarding-training-17/
LOCATION:Zoom
ORGANIZER;CN="SULIR":MAILTO:lirsupport@southernunion.com
END:VEVENT
BEGIN:VEVENT
DTSTART;TZID=America/New_York:20210609T100000
DTEND;TZID=America/New_York:20210609T120000
DTSTAMP:20260425T171115
CREATED:20210506T191207Z
LAST-MODIFIED:20210506T192027Z
UID:23313-1623232800-1623240000@www.adventistedge.com
SUMMARY:Accessing Your Digital Library Resources Training
DESCRIPTION:Who needs to attend? \n\nAnyone who manages the library\nPrincipals\nHead Teachers\nTeachers\n\nWhy do they need to attend? \n\nTo learn what digital resources are available\n\nWhat you’ll learn: \n\nAn overview of the digital resources\nIdeas on how to use resources in the classroom\nBoost student learning with:\n\n \nTeach Students how to: \n\nDevelop 21st century literacy skills such as visual\, digital\, and multimedia literacy\nSearch curated online resources to find relevant information about their topic\nWork collaboratively to create and deliver media-rich presentations in order to share new ideas and teach others\n\nParticipation is limited. Slots fill up quickly so register today! \nOnly registered participants will be sent a Zoom link to the training. \nEach participant receives a recording of the training session and a CEU certificate upon completion. \nChoose from training dates: \n\nWednesday\, 06/09/2021: 10am to 12pm EST\nWednesday\, 06/16/2021: 2pm to 4pm EST\n\n  \n  \n 
URL:https://www.adventistedge.com/event/accessing-your-digital-library-resources-training/
LOCATION:Zoom
ORGANIZER;CN="SULIR":MAILTO:lirsupport@southernunion.com
END:VEVENT
BEGIN:VEVENT
DTSTART;TZID=America/New_York:20210608T110000
DTEND;TZID=America/New_York:20210608T120000
DTSTAMP:20260425T171115
CREATED:20210506T163122Z
LAST-MODIFIED:20210506T163122Z
UID:23304-1623150000-1623153600@www.adventistedge.com
SUMMARY:MackinVIA.com Training
DESCRIPTION:Who needs to attend? \n\nLibrary Managers\nAnyone who manages the library\nPrincipals\nHead Teachers\nTeachers\n\nWhy do they need to attend? \n\nTo learn to access and manage digital resources\n\nWhat you’ll learn: \n\nHow to navigate\, search\, and check-out in MackinVIA\nHow to manage MackinVIA\, create back-packs\, assignments\, and groups\nHow to activate/deactivate resources\nHow to access MackinVIA support\n\nParticipation is limited. Slots fill up quickly so register today! \nOnly registered participants will be sent a Zoom link to the training. \nEach participant receives a recording of the training session and a CEU certificate upon completion. \nChoose from training dates: \n\nTuesday\, 06/08/2021: 11am to 12pm EST\nTuesday\, 06/15/2021: 3pm to 4pm EST
URL:https://www.adventistedge.com/event/mackinvia-com-training-7/
LOCATION:Zoom
ORGANIZER;CN="SULIR":MAILTO:lirsupport@southernunion.com
END:VEVENT
BEGIN:VEVENT
DTSTART;TZID=America/New_York:20210608T100000
DTEND;TZID=America/New_York:20210608T110000
DTSTAMP:20260425T171115
CREATED:20210506T145915Z
LAST-MODIFIED:20210506T163706Z
UID:23296-1623146400-1623150000@www.adventistedge.com
SUMMARY:Mackin.com Training
DESCRIPTION:Who needs to attend? \n\nPrincipals\nHead Teachers\nTeachers\nAnyone who manages the library\n\nWhy do they need to attend? \n\nTo explore the thousands of titles Mackin has to offer\nTo search\, find\, and select materials that support curricula\nTo connect with and utilize the over 100 librarians Mackin employs\n\nWhat you’ll learn: \n\nTo view OMS transaction history\nHow to search Mackin.com for materials\nHow to create lists\nHow to order materials\nHow to receive materials\nHow to contact Mackin.com support\n\nParticipation is limited. Slots fill up quickly so register today! \nOnly registered participants will be sent a Zoom link to the training. \nEach participant receives a recording of the training session and a CEU certificate upon completion. \nChoose from training dates: \n\nTuesday\, 06/08/2021: 10am to 11am EST\nTuesday\, 06/15/2021: 2pm to 3pm EST\n\n 
URL:https://www.adventistedge.com/event/mackin-com-training-7/
LOCATION:Zoom
ORGANIZER;CN="SULIR":MAILTO:lirsupport@southernunion.com
END:VEVENT
BEGIN:VEVENT
DTSTART;TZID=America/New_York:20210607T140000
DTEND;TZID=America/New_York:20210607T160000
DTSTAMP:20260425T171115
CREATED:20210505T214342Z
LAST-MODIFIED:20210505T214342Z
UID:23288-1623074400-1623081600@www.adventistedge.com
SUMMARY:Organizing Your Library with M5
DESCRIPTION:STOP: This training is for those who have already had M5 Basic On-boarding. \nWho needs to attend? \n\nLibrary Managers\nLibrary Volunteers\nAnyone who manages the library\n\nWhy do they need to attend? \n\nTo learn to categorize\, define and solve library issues\nTo learn to organize your library\n\nWhat you’ll learn: \n\nHow to catalog books (edit/add/delete records)\nHow to upload MARC records\nHow to generate barcode and call numbers\n\nParticipation is limited. Slots are filling up quickly so register today! \nOnly registered participants will be sent a link to the training. \nChoose from training times and dates: \n\nMonday\, 06/07/2021: 2pm to 4pm EST\nMonday\, 06/14/2021: 2pm to 4pm EST
URL:https://www.adventistedge.com/event/organizing-your-library-with-m5-17/
LOCATION:Zoom
ORGANIZER;CN="SULIR":MAILTO:lirsupport@southernunion.com
END:VEVENT
BEGIN:VEVENT
DTSTART;TZID=America/New_York:20210607T100000
DTEND;TZID=America/New_York:20210607T110000
DTSTAMP:20260425T171115
CREATED:20210505T212243Z
LAST-MODIFIED:20210505T212243Z
UID:23279-1623060000-1623063600@www.adventistedge.com
SUMMARY:M5 Basic On-Boarding Training
DESCRIPTION:Who needs to attend? \n\nLibrary Managers\nLibrary Volunteers\nAnyone who manages the library\n\nWhy do they need to attend? \n\nTo learn how to access your library page\nTo learn how to use M5 on Day One of school\nTo learn how to electronically circulate (check-in/check-out) materials\nTo learn how to manage your patrons and much more\n\nWhat you’ll learn: \n\nManage Patrons\nCirculation\nGenerate and print barcode and spine labels\nEdit and customize your library page\n\nParticipation is limited. Slots fill up quickly so register today! \nOnly registered participants will be sent a link to the training. \nSelect from training times and dates: \n\nMonday\, 06/07/2021\, 10am to 11am EST\nMonday\, 06/14/2021\, 10am to 11am EST
URL:https://www.adventistedge.com/event/m5-basic-on-boarding-training-16/
LOCATION:Zoom
ORGANIZER;CN="SULIR":MAILTO:lirsupport@southernunion.com
END:VEVENT
BEGIN:VEVENT
DTSTART;VALUE=DATE:20210607
DTEND;VALUE=DATE:20210625
DTSTAMP:20260425T171115
CREATED:20190805T143508Z
LAST-MODIFIED:20190801T180917Z
UID:20128-1623024000-1624579199@www.adventistedge.com
SUMMARY:NAD Summer Committee
DESCRIPTION:
URL:https://www.adventistedge.com/event/nad-summer-committee-3/
LOCATION:Columbia\, MD
CATEGORIES:Education
END:VEVENT
BEGIN:VEVENT
DTSTART;VALUE=DATE:20210531
DTEND;VALUE=DATE:20210601
DTSTAMP:20260425T171115
CREATED:20190805T143309Z
LAST-MODIFIED:20190801T180843Z
UID:20126-1622419200-1622505599@www.adventistedge.com
SUMMARY:Memorial Day
DESCRIPTION:
URL:https://www.adventistedge.com/event/memorial-day-3/
CATEGORIES:Education
END:VEVENT
BEGIN:VEVENT
DTSTART;VALUE=DATE:20210521
DTEND;VALUE=DATE:20210522
DTSTAMP:20260425T171115
CREATED:20190805T134341Z
LAST-MODIFIED:20190801T180724Z
UID:20121-1621555200-1621641599@www.adventistedge.com
SUMMARY:Last Day of School
DESCRIPTION:
URL:https://www.adventistedge.com/event/last-day-of-school-2/
CATEGORIES:Education
END:VEVENT
BEGIN:VEVENT
DTSTART;VALUE=DATE:20210517
DTEND;VALUE=DATE:20210521
DTSTAMP:20260425T171115
CREATED:20190805T143457Z
LAST-MODIFIED:20190801T180816Z
UID:20123-1621209600-1621555199@www.adventistedge.com
SUMMARY:NAD PK-12 Education Advisory & UDOEC
DESCRIPTION:
URL:https://www.adventistedge.com/event/nad-pk-12-education-advisory-udoec/
LOCATION:Kansas City\, MO
CATEGORIES:Education
END:VEVENT
BEGIN:VEVENT
DTSTART;TZID=America/New_York:20210512T080000
DTEND;TZID=America/New_York:20210512T170000
DTSTAMP:20260425T171115
CREATED:20190805T152745Z
LAST-MODIFIED:20200330T122102Z
UID:20119-1620806400-1620838800@www.adventistedge.com
SUMMARY:Superintendents' Advisory
DESCRIPTION:
URL:https://www.adventistedge.com/event/superintendents-advisory-4/
LOCATION:Zoom Meeting
CATEGORIES:Education
END:VEVENT
BEGIN:VEVENT
DTSTART;VALUE=DATE:20210511
DTEND;VALUE=DATE:20210512
DTSTAMP:20260425T171115
CREATED:20190805T123928Z
LAST-MODIFIED:20200330T122010Z
UID:20117-1620691200-1620777599@www.adventistedge.com
SUMMARY:Accreditation\, Certification\, and Junior Academy Review
DESCRIPTION:
URL:https://www.adventistedge.com/event/accreditation-jr-academy-certification-review-committee/
LOCATION:Zoom Meeting
CATEGORIES:Education
END:VEVENT
BEGIN:VEVENT
DTSTART;VALUE=DATE:20210509
DTEND;VALUE=DATE:20210510
DTSTAMP:20260425T171115
CREATED:20190805T144016Z
LAST-MODIFIED:20190801T180443Z
UID:20113-1620518400-1620604799@www.adventistedge.com
SUMMARY:SAU Graduation
DESCRIPTION:
URL:https://www.adventistedge.com/event/sau-graduation-4/
LOCATION:Southern Adventist University
CATEGORIES:Education
END:VEVENT
BEGIN:VEVENT
DTSTART;VALUE=DATE:20210509
DTEND;VALUE=DATE:20210510
DTSTAMP:20260425T171115
CREATED:20190805T143322Z
LAST-MODIFIED:20200331T211235Z
UID:20115-1620518400-1620604799@www.adventistedge.com
SUMMARY:Mother's Day
DESCRIPTION:
URL:https://www.adventistedge.com/event/mothers-day-2/
CATEGORIES:Education
END:VEVENT
BEGIN:VEVENT
DTSTART;VALUE=DATE:20210508
DTEND;VALUE=DATE:20210509
DTSTAMP:20260425T171115
CREATED:20190805T143627Z
LAST-MODIFIED:20190801T180409Z
UID:20111-1620432000-1620518399@www.adventistedge.com
SUMMARY:OU Graduation
DESCRIPTION:
URL:https://www.adventistedge.com/event/ou-graduation-4/
LOCATION:Oakwood University
CATEGORIES:Education
END:VEVENT
BEGIN:VEVENT
DTSTART;VALUE=DATE:20210419
DTEND;VALUE=DATE:20210501
DTSTAMP:20260425T171115
CREATED:20200324T214056Z
LAST-MODIFIED:20200324T175131Z
UID:20736-1618790400-1619827199@www.adventistedge.com
SUMMARY:3rd MAP Testing
DESCRIPTION:This will take place after 32 weeks of instruction. There should be a 2-week testing window.
URL:https://www.adventistedge.com/event/3rd-map-testing/
CATEGORIES:Education,Elementary
END:VEVENT
BEGIN:VEVENT
DTSTART;VALUE=DATE:20210404
DTEND;VALUE=DATE:20210405
DTSTAMP:20260425T171115
CREATED:20190805T134236Z
LAST-MODIFIED:20190801T180020Z
UID:20109-1617494400-1617580799@www.adventistedge.com
SUMMARY:Easter
DESCRIPTION:
URL:https://www.adventistedge.com/event/easter-3/
CATEGORIES:Education
END:VEVENT
BEGIN:VEVENT
DTSTART;VALUE=DATE:20210401
DTEND;VALUE=DATE:20210405
DTSTAMP:20260425T171115
CREATED:20190805T143614Z
LAST-MODIFIED:20190801T175946Z
UID:20107-1617235200-1617580799@www.adventistedge.com
SUMMARY:OU Alumni Homecoming
DESCRIPTION:
URL:https://www.adventistedge.com/event/ou-alumni-homecoming-3/
CATEGORIES:Education
END:VEVENT
BEGIN:VEVENT
DTSTART;TZID=America/New_York:20210323T090000
DTEND;TZID=America/New_York:20210323T130000
DTSTAMP:20260425T171115
CREATED:20210127T135635Z
LAST-MODIFIED:20210125T191038Z
UID:23003-1616490000-1616504400@www.adventistedge.com
SUMMARY:SU Annual Area ECE In-service
DESCRIPTION:This will be a joint Union-wide online Zoom in-service for all school-based pre-kindergarten teaches\, ECP center directors and lead their teachers.  Due to continued Covid-19 cautions and restrictions\, it replaces the usual on-site area meetings for CECE\, TAG ECE\, KTECE\, SWECE\, and FLECE.
URL:https://www.adventistedge.com/event/su-annual-area-ece-in-service/
CATEGORIES:Early Childhood Education
END:VEVENT
BEGIN:VEVENT
DTSTART;VALUE=DATE:20210315
DTEND;VALUE=DATE:20210320
DTSTAMP:20260425T171115
CREATED:20190805T152732Z
LAST-MODIFIED:20190801T175903Z
UID:20105-1615766400-1616198399@www.adventistedge.com
SUMMARY:SU Spring Break
DESCRIPTION:
URL:https://www.adventistedge.com/event/su-spring-break-3/
CATEGORIES:Education
END:VEVENT
BEGIN:VEVENT
DTSTART;VALUE=DATE:20210312
DTEND;VALUE=DATE:20210322
DTSTAMP:20260425T171115
CREATED:20190805T144104Z
LAST-MODIFIED:20190801T175815Z
UID:20103-1615507200-1616371199@www.adventistedge.com
SUMMARY:SAU Spring Break
DESCRIPTION:
URL:https://www.adventistedge.com/event/sau-spring-break-3/
CATEGORIES:Education
END:VEVENT
BEGIN:VEVENT
DTSTART;VALUE=DATE:20210308
DTEND;VALUE=DATE:20210313
DTSTAMP:20260425T171115
CREATED:20200324T214045Z
LAST-MODIFIED:20200324T174859Z
UID:20734-1615161600-1615593599@www.adventistedge.com
SUMMARY:2nd WrAP Administration
DESCRIPTION:
URL:https://www.adventistedge.com/event/2nd-wrap-administration-2/
CATEGORIES:Education,Elementary
END:VEVENT
BEGIN:VEVENT
DTSTART;VALUE=DATE:20210301
DTEND;VALUE=DATE:20210302
DTSTAMP:20260425T171115
CREATED:20200324T214122Z
LAST-MODIFIED:20200331T211258Z
UID:20729-1614556800-1614643199@www.adventistedge.com
SUMMARY:SU S.T.E.A.M. Month - Begins
DESCRIPTION:This month we put an emphasis on Science\, Technology\, Engineering\, Art & Design\, and Mathematics!
URL:https://www.adventistedge.com/event/su-s-t-e-a-m-month-2/
CATEGORIES:Education,Elementary
END:VEVENT
BEGIN:VEVENT
DTSTART;VALUE=DATE:20210301
DTEND;VALUE=DATE:20210306
DTSTAMP:20260425T171115
CREATED:20200324T214012Z
LAST-MODIFIED:20200324T174812Z
UID:20732-1614556800-1614988799@www.adventistedge.com
SUMMARY:1st WrAP Administration
DESCRIPTION:
URL:https://www.adventistedge.com/event/1st-wrap-administration-2/
CATEGORIES:Education,Elementary
END:VEVENT
BEGIN:VEVENT
DTSTART;VALUE=DATE:20210218
DTEND;VALUE=DATE:20210220
DTSTAMP:20260425T171115
CREATED:20190805T152948Z
LAST-MODIFIED:20190801T175716Z
UID:20100-1613606400-1613779199@www.adventistedge.com
SUMMARY:UDOEC
DESCRIPTION:
URL:https://www.adventistedge.com/event/udoec-9/
CATEGORIES:Education
END:VEVENT
END:VCALENDAR