BEGIN:VCALENDAR
VERSION:2.0
PRODID:-//Adventist Edge - ECPv6.15.13//NONSGML v1.0//EN
CALSCALE:GREGORIAN
METHOD:PUBLISH
X-WR-CALNAME:Adventist Edge
X-ORIGINAL-URL:https://www.adventistedge.com
X-WR-CALDESC:Events for Adventist Edge
REFRESH-INTERVAL;VALUE=DURATION:PT1H
X-Robots-Tag:noindex
X-PUBLISHED-TTL:PT1H
BEGIN:VTIMEZONE
TZID:America/New_York
BEGIN:DAYLIGHT
TZOFFSETFROM:-0500
TZOFFSETTO:-0400
TZNAME:EDT
DTSTART:20190310T070000
END:DAYLIGHT
BEGIN:STANDARD
TZOFFSETFROM:-0400
TZOFFSETTO:-0500
TZNAME:EST
DTSTART:20191103T060000
END:STANDARD
BEGIN:DAYLIGHT
TZOFFSETFROM:-0500
TZOFFSETTO:-0400
TZNAME:EDT
DTSTART:20200308T070000
END:DAYLIGHT
BEGIN:STANDARD
TZOFFSETFROM:-0400
TZOFFSETTO:-0500
TZNAME:EST
DTSTART:20201101T060000
END:STANDARD
BEGIN:DAYLIGHT
TZOFFSETFROM:-0500
TZOFFSETTO:-0400
TZNAME:EDT
DTSTART:20210314T070000
END:DAYLIGHT
BEGIN:STANDARD
TZOFFSETFROM:-0400
TZOFFSETTO:-0500
TZNAME:EST
DTSTART:20211107T060000
END:STANDARD
BEGIN:DAYLIGHT
TZOFFSETFROM:-0500
TZOFFSETTO:-0400
TZNAME:EDT
DTSTART:20220313T070000
END:DAYLIGHT
BEGIN:STANDARD
TZOFFSETFROM:-0400
TZOFFSETTO:-0500
TZNAME:EST
DTSTART:20221106T060000
END:STANDARD
END:VTIMEZONE
BEGIN:VEVENT
DTSTART;VALUE=DATE:20210119
DTEND;VALUE=DATE:20210130
DTSTAMP:20260425T222124
CREATED:20200324T214025Z
LAST-MODIFIED:20200324T174506Z
UID:20727-1611014400-1611964799@www.adventistedge.com
SUMMARY:2nd MAP Testing
DESCRIPTION:This will take place after 20 weeks of instruction. There should be a 2-week testing window.
URL:https://www.adventistedge.com/event/2nd-map-testing/
CATEGORIES:Education,Elementary
END:VEVENT
BEGIN:VEVENT
DTSTART;VALUE=DATE:20210118
DTEND;VALUE=DATE:20210119
DTSTAMP:20260425T222124
CREATED:20190805T143256Z
LAST-MODIFIED:20190801T174809Z
UID:20084-1610928000-1611014399@www.adventistedge.com
SUMMARY:Martin Luther King Jr. Day
DESCRIPTION:
URL:https://www.adventistedge.com/event/martin-luther-king-jr-day-3/
CATEGORIES:Education
END:VEVENT
BEGIN:VEVENT
DTSTART;VALUE=DATE:20210104
DTEND;VALUE=DATE:20210105
DTSTAMP:20260425T222124
CREATED:20190805T144750Z
LAST-MODIFIED:20190801T174724Z
UID:20082-1609718400-1609804799@www.adventistedge.com
SUMMARY:Second Semester Begins
DESCRIPTION:
URL:https://www.adventistedge.com/event/second-semester-begins-2/
CATEGORIES:Education
END:VEVENT
BEGIN:VEVENT
DTSTART;VALUE=DATE:20201221
DTEND;VALUE=DATE:20210102
DTSTAMP:20260425T222124
CREATED:20190805T134153Z
LAST-MODIFIED:20190801T173937Z
UID:20080-1608508800-1609545599@www.adventistedge.com
SUMMARY:Christmas/New Year Holiday Break
DESCRIPTION:
URL:https://www.adventistedge.com/event/christmas-new-year-holiday-break-3/
CATEGORIES:Education
END:VEVENT
BEGIN:VEVENT
DTSTART;VALUE=DATE:20201218
DTEND;VALUE=DATE:20201219
DTSTAMP:20260425T222124
CREATED:20190805T134306Z
LAST-MODIFIED:20190801T173831Z
UID:20078-1608249600-1608335999@www.adventistedge.com
SUMMARY:First Semester Ends
DESCRIPTION:
URL:https://www.adventistedge.com/event/first-semester-ends-3/
CATEGORIES:Education
END:VEVENT
BEGIN:VEVENT
DTSTART;VALUE=DATE:20201217
DTEND;VALUE=DATE:20201218
DTSTAMP:20260425T222124
CREATED:20190805T143813Z
LAST-MODIFIED:20190801T173754Z
UID:20076-1608163200-1608249599@www.adventistedge.com
SUMMARY:SAU Graduation
DESCRIPTION:
URL:https://www.adventistedge.com/event/sau-graduation-3/
LOCATION:Southern Adventist University
CATEGORIES:Education
END:VEVENT
BEGIN:VEVENT
DTSTART;VALUE=DATE:20201215
DTEND;VALUE=DATE:20201216
DTSTAMP:20260425T222124
CREATED:20190805T144829Z
LAST-MODIFIED:20201028T211836Z
UID:20074-1607990400-1608076799@www.adventistedge.com
SUMMARY:SU BOE
DESCRIPTION:
URL:https://www.adventistedge.com/event/su-boe-4/
LOCATION:Zoom Meeting
CATEGORIES:Education
END:VEVENT
BEGIN:VEVENT
DTSTART;VALUE=DATE:20201208
DTEND;VALUE=DATE:20201209
DTSTAMP:20260425T222124
CREATED:20190805T152935Z
LAST-MODIFIED:20190801T173640Z
UID:20071-1607385600-1607471999@www.adventistedge.com
SUMMARY:UDOEC
DESCRIPTION:
URL:https://www.adventistedge.com/event/udoec-8/
CATEGORIES:Education
END:VEVENT
BEGIN:VEVENT
DTSTART;VALUE=DATE:20201207
DTEND;VALUE=DATE:20201211
DTSTAMP:20260425T222124
CREATED:20190805T143347Z
LAST-MODIFIED:20201028T211530Z
UID:20068-1607299200-1607644799@www.adventistedge.com
SUMMARY:NAD Curriculum Committee and Education Advisory
DESCRIPTION:
URL:https://www.adventistedge.com/event/nad-curriculum-committee-and-education-advisory/
LOCATION:Zoom Meeting
CATEGORIES:Education
END:VEVENT
BEGIN:VEVENT
DTSTART;VALUE=DATE:20201126
DTEND;VALUE=DATE:20201128
DTSTAMP:20260425T222124
CREATED:20190805T152853Z
LAST-MODIFIED:20190801T173425Z
UID:20066-1606348800-1606521599@www.adventistedge.com
SUMMARY:Thanksgiving Recess
DESCRIPTION:
URL:https://www.adventistedge.com/event/thanksgiving-recess/
CATEGORIES:Education
END:VEVENT
BEGIN:VEVENT
DTSTART;VALUE=DATE:20201126
DTEND;VALUE=DATE:20201127
DTSTAMP:20260425T222124
CREATED:20190805T152817Z
LAST-MODIFIED:20190801T173345Z
UID:20064-1606348800-1606435199@www.adventistedge.com
SUMMARY:Thanksgiving Day
DESCRIPTION:
URL:https://www.adventistedge.com/event/thanksgiving-day-3/
CATEGORIES:Education
END:VEVENT
BEGIN:VEVENT
DTSTART;TZID=America/New_York:20201116T133000
DTEND;TZID=America/New_York:20201118T160000
DTSTAMP:20260425T222124
CREATED:20190805T144806Z
LAST-MODIFIED:20201028T211513Z
UID:20062-1605533400-1605715200@www.adventistedge.com
SUMMARY:SU Administrative & Departmental Council
DESCRIPTION:
URL:https://www.adventistedge.com/event/su-administrative-departmental-council-3/
LOCATION:Zoom Meeting
CATEGORIES:Education
END:VEVENT
BEGIN:VEVENT
DTSTART;VALUE=DATE:20201103
DTEND;VALUE=DATE:20201104
DTSTAMP:20260425T222124
CREATED:20190805T144047Z
LAST-MODIFIED:20190801T173154Z
UID:20060-1604361600-1604447999@www.adventistedge.com
SUMMARY:SAU Prospective Teacher Interviews
DESCRIPTION:
URL:https://www.adventistedge.com/event/sau-prospective-teacher-interviews-4/
CATEGORIES:Education
END:VEVENT
BEGIN:VEVENT
DTSTART;VALUE=DATE:20201102
DTEND;VALUE=DATE:20201103
DTSTAMP:20260425T222124
CREATED:20190805T143645Z
LAST-MODIFIED:20190801T173112Z
UID:20058-1604275200-1604361599@www.adventistedge.com
SUMMARY:OU Prospective Teacher Interviews
DESCRIPTION:
URL:https://www.adventistedge.com/event/ou-prospective-teacher-interviews-4/
LOCATION:Oakwood University
CATEGORIES:Education
END:VEVENT
BEGIN:VEVENT
DTSTART;VALUE=DATE:20201029
DTEND;VALUE=DATE:20201102
DTSTAMP:20260425T222124
CREATED:20200414T145822Z
LAST-MODIFIED:20200414T144536Z
UID:20908-1603929600-1604275199@www.adventistedge.com
SUMMARY:SAU Homecoming Weekend
DESCRIPTION:
URL:https://www.adventistedge.com/event/sau-homecoming-weekend/
LOCATION:Southern Adventist University
CATEGORIES:Education
END:VEVENT
BEGIN:VEVENT
DTSTART;VALUE=DATE:20201029
DTEND;VALUE=DATE:20201104
DTSTAMP:20260425T222124
CREATED:20190805T143521Z
LAST-MODIFIED:20190801T173023Z
UID:20056-1603929600-1604447999@www.adventistedge.com
SUMMARY:NAD Year-End Meeting
DESCRIPTION:
URL:https://www.adventistedge.com/event/nad-year-end-meeting-3/
LOCATION:Columbia\, MD
CATEGORIES:Education
END:VEVENT
BEGIN:VEVENT
DTSTART;VALUE=DATE:20201029
DTEND;VALUE=DATE:20201030
DTSTAMP:20260425T222124
CREATED:20190805T143334Z
LAST-MODIFIED:20190801T172932Z
UID:20054-1603929600-1604015999@www.adventistedge.com
SUMMARY:NAD BOE & UDOEC
DESCRIPTION:
URL:https://www.adventistedge.com/event/nad-boe-udoec/
LOCATION:Columbia\, MD
CATEGORIES:Education
END:VEVENT
BEGIN:VEVENT
DTSTART;VALUE=DATE:20201011
DTEND;VALUE=DATE:20201015
DTSTAMP:20260425T222124
CREATED:20190805T152759Z
LAST-MODIFIED:20190801T172839Z
UID:20051-1602374400-1602719999@www.adventistedge.com
SUMMARY:TDEC
DESCRIPTION:
URL:https://www.adventistedge.com/event/tdec-5/
LOCATION:TBD
CATEGORIES:Education
END:VEVENT
BEGIN:VEVENT
DTSTART;VALUE=DATE:20200927
DTEND;VALUE=DATE:20201002
DTSTAMP:20260425T222124
CREATED:20190805T152920Z
LAST-MODIFIED:20190801T172743Z
UID:20048-1601164800-1601596799@www.adventistedge.com
SUMMARY:UDOEC
DESCRIPTION:
URL:https://www.adventistedge.com/event/udoec-7/
LOCATION:Quebec\, CN
CATEGORIES:Education
END:VEVENT
BEGIN:VEVENT
DTSTART;VALUE=DATE:20200917
DTEND;VALUE=DATE:20200920
DTSTAMP:20260425T222124
CREATED:20190805T143243Z
LAST-MODIFIED:20190801T172429Z
UID:20042-1600300800-1600559999@www.adventistedge.com
SUMMARY:Leadership Conference
DESCRIPTION:
URL:https://www.adventistedge.com/event/leadership-conference-2/
LOCATION:Nosoca Pines Ranch
CATEGORIES:Education
END:VEVENT
BEGIN:VEVENT
DTSTART;TZID=America/New_York:20200909T090000
DTEND;TZID=America/New_York:20200910T170000
DTSTAMP:20260425T222124
CREATED:20200304T222238Z
LAST-MODIFIED:20200304T215028Z
UID:20653-1599642000-1599757200@www.adventistedge.com
SUMMARY:Secondary Advisory
DESCRIPTION:
URL:https://www.adventistedge.com/event/secondary-advisory-2/
LOCATION:Georgia Cumberland Academy
CATEGORIES:Education
END:VEVENT
BEGIN:VEVENT
DTSTART;VALUE=DATE:20200908
DTEND;VALUE=DATE:20200919
DTSTAMP:20260425T222124
CREATED:20200324T213526Z
LAST-MODIFIED:20200324T174300Z
UID:20724-1599523200-1600473599@www.adventistedge.com
SUMMARY:1st MAP Testing
DESCRIPTION:This will take place after 4 weeks of instruction. There should be a 2-week testing window.
URL:https://www.adventistedge.com/event/1st-map-testing/
CATEGORIES:Education,Elementary
END:VEVENT
BEGIN:VEVENT
DTSTART;VALUE=DATE:20200907
DTEND;VALUE=DATE:20200908
DTSTAMP:20260425T222124
CREATED:20190805T134329Z
LAST-MODIFIED:20190801T172300Z
UID:20040-1599436800-1599523199@www.adventistedge.com
SUMMARY:Labor Day
DESCRIPTION:
URL:https://www.adventistedge.com/event/labor-day-3/
CATEGORIES:Education
END:VEVENT
BEGIN:VEVENT
DTSTART;VALUE=DATE:20200810
DTEND;VALUE=DATE:20200811
DTSTAMP:20260425T222124
CREATED:20190801T170048Z
LAST-MODIFIED:20200810T131334Z
UID:20038-1597017600-1597103999@www.adventistedge.com
SUMMARY:First Day of School (Due to COVID-19 date will vary)
DESCRIPTION:
URL:https://www.adventistedge.com/event/first-day-of-school-3/
CATEGORIES:Education
END:VEVENT
BEGIN:VEVENT
DTSTART;TZID=America/New_York:20200801T080000
DTEND;TZID=America/New_York:20200801T170000
DTSTAMP:20260425T222124
CREATED:20180824T210008Z
LAST-MODIFIED:20180824T210008Z
UID:18841-1596268800-1596301200@www.adventistedge.com
SUMMARY:Test Event
DESCRIPTION:Testing
URL:https://www.adventistedge.com/event/test-event/
LOCATION:Southern Union Conference\, 302 Research Drive\, Norcross\, GA\, 30092\, United States
CATEGORIES:Test
END:VEVENT
BEGIN:VEVENT
DTSTART;TZID=America/New_York:20200730T140000
DTEND;TZID=America/New_York:20200730T160000
DTSTAMP:20260425T222124
CREATED:20200630T214544Z
LAST-MODIFIED:20200630T214544Z
UID:22100-1596117600-1596124800@www.adventistedge.com
SUMMARY:Organizing Your Library with M5
DESCRIPTION:STOP: This training is for those who have already had M5 Basic On-boarding. \nWho needs to attend? \n\nLibrary Managers\nAnyone who manages the library\n\nWhy do they need to attend? \n\nTo learn to categorize\, define and solve library issues\nTo learn to organize your library\n\nWhat you’ll learn: \n\nHow to catalog books (edit/add/delete records)\nHow to upload MARC records\nHow to generate barcode and call numbers\n\nParticipation is limited. Slots are filling up quickly so register today! \nOnly registered participants will be sent a link to the training. \nChoose from training times and dates: \n\nThursday\, 07/30/2020\, 2pm to 4pm EST\n\n  \n  \n  \n  \n  \n  \n  \n 
URL:https://www.adventistedge.com/event/organizing-your-library-with-m5-16/
LOCATION:Zoom Webinar
CATEGORIES:Library/Information Resources
ORGANIZER;CN="SULIR":MAILTO:lirsupport@southernunion.com
END:VEVENT
BEGIN:VEVENT
DTSTART;TZID=America/New_York:20200729T140000
DTEND;TZID=America/New_York:20200729T150000
DTSTAMP:20260425T222124
CREATED:20200630T212159Z
LAST-MODIFIED:20200630T212159Z
UID:22091-1596031200-1596034800@www.adventistedge.com
SUMMARY:M5 Basic On-Boarding Training
DESCRIPTION:Who needs to attend? \n\nLibrary Managers\nAnyone who manages the library\n\nWhy do they need to attend? \n\nTo learn how to access your library page\nTo learn how to use M5 on Day One of school\nTo learn how to electronically circulate (check-in/check-out) materials\nTo learn how to manage your patrons and much more\n\nWhat you’ll learn: \n\nCirculation\nGenerate and print barcode and spine labels\nEdit and customize your library page\nConduct transactions\n\nParticipation is limited. Slots fill up quickly so register today! \nOnly registered participants will be sent a link to the training. \nSelect from training times and dates: \n\nWednesday\, 07/29/2020\, 2pm to 3pm EST
URL:https://www.adventistedge.com/event/m5-basic-on-boarding-training-15/
LOCATION:Zoom
CATEGORIES:Library/Information Resources
ORGANIZER;CN="SULIR":MAILTO:lirsupport@southernunion.com
END:VEVENT
BEGIN:VEVENT
DTSTART;VALUE=DATE:20200729
DTEND;VALUE=DATE:20200802
DTSTAMP:20260425T222124
CREATED:20200414T145743Z
LAST-MODIFIED:20200414T144743Z
UID:20910-1595980800-1596326399@www.adventistedge.com
SUMMARY:NEW DATE - OU Graduation
DESCRIPTION:
URL:https://www.adventistedge.com/event/new-date-ou-graduation/
LOCATION:Oakwood University
CATEGORIES:Education
END:VEVENT
BEGIN:VEVENT
DTSTART;TZID=America/New_York:20200728T100000
DTEND;TZID=America/New_York:20200728T120000
DTSTAMP:20260425T222124
CREATED:20200630T210130Z
LAST-MODIFIED:20200722T155748Z
UID:22082-1595930400-1595937600@www.adventistedge.com
SUMMARY:Accessing Your Digital Library Resources
DESCRIPTION:Who needs to attend? \n\nAnyone who manages the library\nPrincipals\nHead Teachers\nTeachers\n\nWhy do they need to attend? \n\nTo learn what digital resources are available\n\nWhat you’ll learn: \n\nAn overview of the digital resources\nIdeas on how to use resources in the classroom\nBoost student learning with:\n\n                 \n  \nStudents will: \n\nDevelop 21st century literacy skills such as visual\, digital\, and multimedia literacy\nSearch curated online resources to find relevant information about their topic\nWork collaboratively to create and deliver media-rich presentations in order to share new ideas and teach others\nAnd much more!\n\nParticipation is limited. Slots fill up quickly so register today! \nOnly registered participants will be sent a Zoom link to the training. \nEach participant receives a recording of the training session and a CEU certificate upon completion. \nChoose from training dates: \n\nTuesday\, 07/28/2020 10am to 12pm EST\n\n  \n  \n  \n  \n  \n  \n  \n 
URL:https://www.adventistedge.com/event/accessing-your-digital-library-resources-9/
LOCATION:Zoom Webinar
CATEGORIES:Library/Information Resources
ORGANIZER;CN="SULIR":MAILTO:lirsupport@southernunion.com
END:VEVENT
BEGIN:VEVENT
DTSTART;TZID=America/New_York:20200727T150000
DTEND;TZID=America/New_York:20200727T160000
DTSTAMP:20260425T222124
CREATED:20200630T194643Z
LAST-MODIFIED:20200630T194643Z
UID:22073-1595862000-1595865600@www.adventistedge.com
SUMMARY:MackinVIA.com Training
DESCRIPTION:Who needs to attend? \n\nLibrary Managers\nAnyone who manages the library\nPrincipals\nHead Teachers\nTeachers\n\nWhy do they need to attend? \n\nTo learn to access and manage digital resources\n\nWhat you’ll learn: \n\nHow to navigate\, search\, and check-out in MackinVIA\nHow to manage MackinVIA\, create back-packs\, assignments\, and groups\nHow to activate/deactivate resources\nHow to access MackinVIA support\n\nParticipation is limited. Slots fill up quickly so register today! \nOnly registered participants will be sent a Zoom link to the training. \nEach participant receives a recording of the training session and a CEU certificate upon completion. \nChoose from training dates: \n  \n\nMonday\, 07/27/2020\, 3pm to 4pm EST\n\n  \n  \n  \n  \n  \n  \n  \n 
URL:https://www.adventistedge.com/event/mackinvia-com-training-6/
LOCATION:Zoom Webinar
CATEGORIES:Library/Information Resources
ORGANIZER;CN="SULIR":MAILTO:lirsupport@southernunion.com
END:VEVENT
END:VCALENDAR