BEGIN:VCALENDAR
VERSION:2.0
PRODID:-//Adventist Edge - ECPv6.15.13//NONSGML v1.0//EN
CALSCALE:GREGORIAN
METHOD:PUBLISH
X-ORIGINAL-URL:https://www.adventistedge.com
X-WR-CALDESC:Events for Adventist Edge
REFRESH-INTERVAL;VALUE=DURATION:PT1H
X-Robots-Tag:noindex
X-PUBLISHED-TTL:PT1H
BEGIN:VTIMEZONE
TZID:America/New_York
BEGIN:DAYLIGHT
TZOFFSETFROM:-0500
TZOFFSETTO:-0400
TZNAME:EDT
DTSTART:20240310T070000
END:DAYLIGHT
BEGIN:STANDARD
TZOFFSETFROM:-0400
TZOFFSETTO:-0500
TZNAME:EST
DTSTART:20241103T060000
END:STANDARD
BEGIN:DAYLIGHT
TZOFFSETFROM:-0500
TZOFFSETTO:-0400
TZNAME:EDT
DTSTART:20250309T070000
END:DAYLIGHT
BEGIN:STANDARD
TZOFFSETFROM:-0400
TZOFFSETTO:-0500
TZNAME:EST
DTSTART:20251102T060000
END:STANDARD
BEGIN:DAYLIGHT
TZOFFSETFROM:-0500
TZOFFSETTO:-0400
TZNAME:EDT
DTSTART:20260308T070000
END:DAYLIGHT
BEGIN:STANDARD
TZOFFSETFROM:-0400
TZOFFSETTO:-0500
TZNAME:EST
DTSTART:20261101T060000
END:STANDARD
END:VTIMEZONE
BEGIN:VEVENT
DTSTART;TZID=America/New_York:20251201T080000
DTEND;TZID=America/New_York:20251203T170000
DTSTAMP:20260421T053424
CREATED:20251203T213823Z
LAST-MODIFIED:20251203T213823Z
UID:27163-1764576000-1764781200@www.adventistedge.com
SUMMARY:Professional Learning Community Meetings- Secondary Education
DESCRIPTION:December 1\, 2025- English PLC via TEAMS invite @ 4 pm EST\nDecember 1\, 2025- Foreign Language PLC via TEAMS invite @ 5:15 pm EST\nDecember 2\, 2025- Math/Science PLC via TEAMS invite @ 4 pm EST\nDecember 2\, 2025- Social Studies PLC via TEAMS invite @ 5:15 pm EST\nDecember 3\, 2025- Technology/STEM PLC via TEAMS invite @ 4 pm EST
URL:https://www.adventistedge.com/event/professional-learning-community-meetings-secondary-education/
LOCATION:Via Teams Invite
END:VEVENT
BEGIN:VEVENT
DTSTART;VALUE=DATE:20251118
DTEND;VALUE=DATE:20251119
DTSTAMP:20260421T053424
CREATED:20250709T151051Z
LAST-MODIFIED:20250709T151321Z
UID:26604-1763424000-1763510399@www.adventistedge.com
SUMMARY:Senior Academy Business Manager/School Treasurer Committee
DESCRIPTION:(In-person: Fall SUC Departmental Meetings)
URL:https://www.adventistedge.com/event/senior-academy-business-manager-school-treasurer-committee-2/
LOCATION:Destin\, FL
END:VEVENT
BEGIN:VEVENT
DTSTART;VALUE=DATE:20251116
DTEND;VALUE=DATE:20251120
DTSTAMP:20260421T053424
CREATED:20250709T153943Z
LAST-MODIFIED:20250929T162752Z
UID:26613-1763251200-1763596799@www.adventistedge.com
SUMMARY:Fall SUC Departmental Meetings
DESCRIPTION:Elementary Advisory\nSecondary Advisory\nECE Advisory
URL:https://www.adventistedge.com/event/secondary-advisory-4/
LOCATION:Destin\, FL
END:VEVENT
BEGIN:VEVENT
DTSTART;VALUE=DATE:20251105
DTEND;VALUE=DATE:20251106
DTSTAMP:20260421T053424
CREATED:20250408T214009Z
LAST-MODIFIED:20251030T172521Z
UID:26365-1762300800-1762387199@www.adventistedge.com
SUMMARY:Highland Academy Day
DESCRIPTION:Senior Academy Celebration Day
URL:https://www.adventistedge.com/event/ha-day/
LOCATION:SUCOE\, 302 Reseach Dr\, Peachtree Dr\, GA\, 30097\, United States
END:VEVENT
BEGIN:VEVENT
DTSTART;TZID=America/New_York:20251103T170000
DTEND;TZID=America/New_York:20251103T190000
DTSTAMP:20260421T053424
CREATED:20250929T163856Z
LAST-MODIFIED:20250929T163856Z
UID:27071-1762189200-1762196400@www.adventistedge.com
SUMMARY:Principal Cohort 25-26
DESCRIPTION:
URL:https://www.adventistedge.com/event/principal-cohort-25-26/
LOCATION:Via Teams Invite
CATEGORIES:Secondary
END:VEVENT
BEGIN:VEVENT
DTSTART;TZID=America/New_York:20251024T100000
DTEND;TZID=America/New_York:20251024T120000
DTSTAMP:20260421T053424
CREATED:20240903T184202Z
LAST-MODIFIED:20240903T184744Z
UID:25636-1761300000-1761307200@www.adventistedge.com
SUMMARY:K12 Board Meeting - Kentucky-Tennessee Conference
DESCRIPTION:
URL:https://www.adventistedge.com/event/k12-board-meeting-kentucky-tennessee-conference/
LOCATION:Kentucky-Tennessee Conference
END:VEVENT
BEGIN:VEVENT
DTSTART;VALUE=DATE:20251015
DTEND;VALUE=DATE:20251016
DTSTAMP:20260421T053424
CREATED:20250408T213756Z
LAST-MODIFIED:20250408T213909Z
UID:26363-1760486400-1760572799@www.adventistedge.com
SUMMARY:WMA DAY
DESCRIPTION:
URL:https://www.adventistedge.com/event/wma-day/
LOCATION:SUCOE\, 302 Reseach Dr\, Peachtree Dr\, GA\, 30097\, United States
END:VEVENT
BEGIN:VEVENT
DTSTART;TZID=America/New_York:20251007T170000
DTEND;TZID=America/New_York:20251007T190000
DTSTAMP:20260421T053424
CREATED:20250929T163738Z
LAST-MODIFIED:20250929T163738Z
UID:27069-1759856400-1759863600@www.adventistedge.com
SUMMARY:Principal Cohort 24-25
DESCRIPTION:
URL:https://www.adventistedge.com/event/principal-cohort-24-25/
LOCATION:Via Teams Invite
END:VEVENT
BEGIN:VEVENT
DTSTART;TZID=America/New_York:20251006T170000
DTEND;TZID=America/New_York:20251006T190000
DTSTAMP:20260421T053424
CREATED:20250929T163635Z
LAST-MODIFIED:20250929T163635Z
UID:27067-1759770000-1759777200@www.adventistedge.com
SUMMARY:Principal Cohort 23-24
DESCRIPTION:
URL:https://www.adventistedge.com/event/principal-cohort-23-24/
LOCATION:Via Teams Invite
END:VEVENT
BEGIN:VEVENT
DTSTART;VALUE=DATE:20251006
DTEND;VALUE=DATE:20251007
DTSTAMP:20260421T053424
CREATED:20250408T213637Z
LAST-MODIFIED:20250722T181616Z
UID:26361-1759708800-1759795199@www.adventistedge.com
SUMMARY:Senior Academy Celebration Day - Atlanta Adventist Academy
DESCRIPTION:
URL:https://www.adventistedge.com/event/aaa-day/
LOCATION:SUCOE\, 302 Reseach Dr\, Peachtree Dr\, GA\, 30097\, United States
END:VEVENT
BEGIN:VEVENT
DTSTART;TZID=America/New_York:20251002T171500
DTEND;TZID=America/New_York:20251002T181500
DTSTAMP:20260421T053424
CREATED:20250929T183025Z
LAST-MODIFIED:20250929T183025Z
UID:27089-1759425300-1759428900@www.adventistedge.com
SUMMARY:Professional Learning Community Meeting-Technology/STEM PLC
DESCRIPTION:
URL:https://www.adventistedge.com/event/professional-learning-community-meeting-technology-stem-plc/
LOCATION:Via Teams Invite
END:VEVENT
BEGIN:VEVENT
DTSTART;TZID=America/New_York:20251002T160000
DTEND;TZID=America/New_York:20251002T170000
DTSTAMP:20260421T053424
CREATED:20250929T182756Z
LAST-MODIFIED:20250929T182756Z
UID:27087-1759420800-1759424400@www.adventistedge.com
SUMMARY:Professional Learning Community Meeting-Social Studies PLC
DESCRIPTION:
URL:https://www.adventistedge.com/event/professional-learning-community-meeting-social-studies-plc/
LOCATION:Via Teams Invite
END:VEVENT
BEGIN:VEVENT
DTSTART;TZID=America/New_York:20251001T171500
DTEND;TZID=America/New_York:20251001T181500
DTSTAMP:20260421T053424
CREATED:20250929T182525Z
LAST-MODIFIED:20250929T182525Z
UID:27085-1759338900-1759342500@www.adventistedge.com
SUMMARY:Professional Learning Community Meeting-Practical Arts PLC
DESCRIPTION:
URL:https://www.adventistedge.com/event/professional-learning-community-meeting-practical-arts-plc/
LOCATION:Via Teams Invite
END:VEVENT
BEGIN:VEVENT
DTSTART;TZID=America/New_York:20251001T160000
DTEND;TZID=America/New_York:20251001T170000
DTSTAMP:20260421T053424
CREATED:20250929T182339Z
LAST-MODIFIED:20250929T182339Z
UID:27083-1759334400-1759338000@www.adventistedge.com
SUMMARY:Professional Learning Community Meeting-Physical Education PLC
DESCRIPTION:
URL:https://www.adventistedge.com/event/professional-learning-community-meeting-physical-education-plc/
LOCATION:Via Teams Invite
END:VEVENT
BEGIN:VEVENT
DTSTART;TZID=America/New_York:20250930T171500
DTEND;TZID=America/New_York:20250930T181500
DTSTAMP:20260421T053424
CREATED:20250929T181834Z
LAST-MODIFIED:20250929T181922Z
UID:27081-1759252500-1759256100@www.adventistedge.com
SUMMARY:Professional Learning Community Meeting-Math/Science PLC
DESCRIPTION:
URL:https://www.adventistedge.com/event/professional-learning-community-meeting-math-science-plc/
LOCATION:Via Teams Invite
END:VEVENT
BEGIN:VEVENT
DTSTART;TZID=America/New_York:20250930T160000
DTEND;TZID=America/New_York:20250930T170000
DTSTAMP:20260421T053424
CREATED:20250929T181653Z
LAST-MODIFIED:20250929T181653Z
UID:27079-1759248000-1759251600@www.adventistedge.com
SUMMARY:Professional Learning Community Meeting- Foreign Language PLC
DESCRIPTION:
URL:https://www.adventistedge.com/event/professional-learning-community-meeting-foreign-language-plc/
LOCATION:Via Teams Invite
END:VEVENT
BEGIN:VEVENT
DTSTART;TZID=America/New_York:20250929T171500
DTEND;TZID=America/New_York:20250929T181500
DTSTAMP:20260421T053424
CREATED:20250929T181320Z
LAST-MODIFIED:20250929T181320Z
UID:27077-1759166100-1759169700@www.adventistedge.com
SUMMARY:Professional Learning Community Meeting-Fine Arts PLC
DESCRIPTION:
URL:https://www.adventistedge.com/event/professional-learning-community-meeting-fine-arts-plc/
LOCATION:Via Teams Invite
END:VEVENT
BEGIN:VEVENT
DTSTART;TZID=America/New_York:20250929T160000
DTEND;TZID=America/New_York:20250929T170000
DTSTAMP:20260421T053424
CREATED:20250929T181024Z
LAST-MODIFIED:20250929T181024Z
UID:27075-1759161600-1759165200@www.adventistedge.com
SUMMARY:Professional Learning Community Meeting- English PLC
DESCRIPTION:
URL:https://www.adventistedge.com/event/professional-learning-community-meeting-english-plc/
LOCATION:Via Teams Invite
END:VEVENT
BEGIN:VEVENT
DTSTART;TZID=America/New_York:20250923T100000
DTEND;TZID=America/New_York:20250923T170000
DTSTAMP:20260421T053424
CREATED:20250507T201136Z
LAST-MODIFIED:20250507T201136Z
UID:26414-1758621600-1758646800@www.adventistedge.com
SUMMARY:Gulf States Conference Board of Education
DESCRIPTION:
URL:https://www.adventistedge.com/event/gulf-states-conference-board-of-education/
LOCATION:Gulf States Conference
END:VEVENT
BEGIN:VEVENT
DTSTART;VALUE=DATE:20250915
DTEND;VALUE=DATE:20250917
DTSTAMP:20260421T053424
CREATED:20250709T153052Z
LAST-MODIFIED:20250709T153052Z
UID:26610-1757894400-1758067199@www.adventistedge.com
SUMMARY:Secondary Advisory
DESCRIPTION:In-Person
URL:https://www.adventistedge.com/event/secondary-advisory-3/
LOCATION:Southern Union Conference\, 302 Research Drive\, Norcross\, GA\, 30092\, United States
END:VEVENT
BEGIN:VEVENT
DTSTART;VALUE=DATE:20250915
DTEND;VALUE=DATE:20250916
DTSTAMP:20260421T053424
CREATED:20250408T213520Z
LAST-MODIFIED:20250408T213520Z
UID:26359-1757894400-1757980799@www.adventistedge.com
SUMMARY:GCA DAY
DESCRIPTION:
URL:https://www.adventistedge.com/event/gca-day/
LOCATION:SUCOE\, 302 Reseach Dr\, Peachtree Dr\, GA\, 30097\, United States
END:VEVENT
BEGIN:VEVENT
DTSTART;TZID=America/New_York:20250911T130000
DTEND;TZID=America/New_York:20250911T170000
DTSTAMP:20260421T053424
CREATED:20250707T155223Z
LAST-MODIFIED:20250707T155633Z
UID:26583-1757595600-1757610000@www.adventistedge.com
SUMMARY:Registrars Committee
DESCRIPTION:
URL:https://www.adventistedge.com/event/registrars-committee/
LOCATION:Via Teams Invite
CATEGORIES:Secondary
END:VEVENT
BEGIN:VEVENT
DTSTART;TZID=America/New_York:20250904T100000
DTEND;TZID=America/New_York:20250904T120000
DTSTAMP:20260421T053424
CREATED:20250827T155718Z
LAST-MODIFIED:20250827T161619Z
UID:27018-1756980000-1756987200@www.adventistedge.com
SUMMARY:Georgia-Cumberland Conference Board of Education Meeting
DESCRIPTION:
URL:https://www.adventistedge.com/event/georgia-cumberland-conference-board-of-education-meeting/
LOCATION:Georgia-Cumberland Conference Office
ORGANIZER;CN="Debbie Begley":MAILTO:dbegley@gccsda.com
END:VEVENT
BEGIN:VEVENT
DTSTART;VALUE=DATE:20250904
DTEND;VALUE=DATE:20250905
DTSTAMP:20260421T053424
CREATED:20250408T213331Z
LAST-MODIFIED:20250722T181313Z
UID:26357-1756944000-1757030399@www.adventistedge.com
SUMMARY:Senior Academy Celebration Day - Forest Lake Academy
DESCRIPTION:
URL:https://www.adventistedge.com/event/fla-day/
LOCATION:SUCOE\, 302 Reseach Dr\, Peachtree Dr\, GA\, 30097\, United States
END:VEVENT
BEGIN:VEVENT
DTSTART;TZID=America/New_York:20250828T170000
DTEND;TZID=America/New_York:20250828T190000
DTSTAMP:20260421T053424
CREATED:20250709T150709Z
LAST-MODIFIED:20250709T150753Z
UID:26601-1756400400-1756407600@www.adventistedge.com
SUMMARY:Senior Academy Business Manager/School Treasurer Committee
DESCRIPTION:
URL:https://www.adventistedge.com/event/senior-academy-business-manager-school-treasurer-committee/
LOCATION:Via Teams Invite
END:VEVENT
BEGIN:VEVENT
DTSTART;VALUE=DATE:20250820
DTEND;VALUE=DATE:20250821
DTSTAMP:20260421T053424
CREATED:20250827T153407Z
LAST-MODIFIED:20250827T154214Z
UID:27014-1755648000-1755734399@www.adventistedge.com
SUMMARY:Early Childhood Education Advisory
DESCRIPTION:
URL:https://www.adventistedge.com/event/early-childhood-education-advisory/
LOCATION:Via Teams Invite
ORGANIZER;CN="Lori Thieme - Early Childhood Education Associate Director":MAILTO:lthieme@southernunion.com
END:VEVENT
BEGIN:VEVENT
DTSTART;VALUE=DATE:20250814
DTEND;VALUE=DATE:20250815
DTSTAMP:20260421T053424
CREATED:20250408T213158Z
LAST-MODIFIED:20250722T173859Z
UID:26355-1755129600-1755215999@www.adventistedge.com
SUMMARY:Senior Academy Celebration - North Tampa Christian Academy Day
DESCRIPTION:
URL:https://www.adventistedge.com/event/ntca-day/
LOCATION:SUCOE\, 302 Reseach Dr\, Peachtree Dr\, GA\, 30097\, United States
END:VEVENT
BEGIN:VEVENT
DTSTART;VALUE=DATE:20250805
DTEND;VALUE=DATE:20250806
DTSTAMP:20260421T053424
CREATED:20250709T160411Z
LAST-MODIFIED:20250709T160433Z
UID:26621-1754352000-1754438399@www.adventistedge.com
SUMMARY:Senior Academy Celebration - Mount Pisgah Academy Day
DESCRIPTION:
URL:https://www.adventistedge.com/event/senior-academy-celebration-mount-pisgah-academy-day/
LOCATION:Mount Pisgah Academy\, 75 Academy Drive\, Candler\, NC\, 28715
END:VEVENT
BEGIN:VEVENT
DTSTART;TZID=America/New_York:20250610T180000
DTEND;TZID=America/New_York:20250610T190000
DTSTAMP:20260421T053424
CREATED:20250212T223753Z
LAST-MODIFIED:20250212T223753Z
UID:26128-1749578400-1749582000@www.adventistedge.com
SUMMARY:Secondary Education - Oakwood Adventist Academy Board
DESCRIPTION:
URL:https://www.adventistedge.com/event/secondary-education-oakwood-adventist-academy-board-2/
LOCATION:Oakwood Adventist Academy
END:VEVENT
BEGIN:VEVENT
DTSTART;TZID=America/New_York:20250515T180000
DTEND;TZID=America/New_York:20250515T190000
DTSTAMP:20260421T053424
CREATED:20250212T223849Z
LAST-MODIFIED:20250212T223849Z
UID:26131-1747332000-1747335600@www.adventistedge.com
SUMMARY:Secondary Education - Ephesus Adventist Academy Board
DESCRIPTION:
URL:https://www.adventistedge.com/event/secondary-education-ephesus-adventist-academy-board-4/
LOCATION:Zoom Meeting
END:VEVENT
END:VCALENDAR