BEGIN:VCALENDAR
VERSION:2.0
PRODID:-//Adventist Edge - ECPv6.15.13//NONSGML v1.0//EN
CALSCALE:GREGORIAN
METHOD:PUBLISH
X-WR-CALNAME:Adventist Edge
X-ORIGINAL-URL:https://www.adventistedge.com
X-WR-CALDESC:Events for Adventist Edge
REFRESH-INTERVAL;VALUE=DURATION:PT1H
X-Robots-Tag:noindex
X-PUBLISHED-TTL:PT1H
BEGIN:VTIMEZONE
TZID:America/New_York
BEGIN:DAYLIGHT
TZOFFSETFROM:-0500
TZOFFSETTO:-0400
TZNAME:EDT
DTSTART:20240310T070000
END:DAYLIGHT
BEGIN:STANDARD
TZOFFSETFROM:-0400
TZOFFSETTO:-0500
TZNAME:EST
DTSTART:20241103T060000
END:STANDARD
BEGIN:DAYLIGHT
TZOFFSETFROM:-0500
TZOFFSETTO:-0400
TZNAME:EDT
DTSTART:20250309T070000
END:DAYLIGHT
BEGIN:STANDARD
TZOFFSETFROM:-0400
TZOFFSETTO:-0500
TZNAME:EST
DTSTART:20251102T060000
END:STANDARD
BEGIN:DAYLIGHT
TZOFFSETFROM:-0500
TZOFFSETTO:-0400
TZNAME:EDT
DTSTART:20260308T070000
END:DAYLIGHT
BEGIN:STANDARD
TZOFFSETFROM:-0400
TZOFFSETTO:-0500
TZNAME:EST
DTSTART:20261101T060000
END:STANDARD
END:VTIMEZONE
BEGIN:VEVENT
DTSTART;VALUE=DATE:20250915
DTEND;VALUE=DATE:20250916
DTSTAMP:20260423T055719
CREATED:20250408T213520Z
LAST-MODIFIED:20250408T213520Z
UID:26359-1757894400-1757980799@www.adventistedge.com
SUMMARY:GCA DAY
DESCRIPTION:
URL:https://www.adventistedge.com/event/gca-day/
LOCATION:SUCOE\, 302 Reseach Dr\, Peachtree Dr\, GA\, 30097\, United States
END:VEVENT
BEGIN:VEVENT
DTSTART;TZID=America/New_York:20250911T130000
DTEND;TZID=America/New_York:20250911T170000
DTSTAMP:20260423T055719
CREATED:20250707T155223Z
LAST-MODIFIED:20250707T155633Z
UID:26583-1757595600-1757610000@www.adventistedge.com
SUMMARY:Registrars Committee
DESCRIPTION:
URL:https://www.adventistedge.com/event/registrars-committee/
LOCATION:Via Teams Invite
CATEGORIES:Secondary
END:VEVENT
BEGIN:VEVENT
DTSTART;TZID=America/New_York:20250904T100000
DTEND;TZID=America/New_York:20250904T120000
DTSTAMP:20260423T055719
CREATED:20250827T155718Z
LAST-MODIFIED:20250827T161619Z
UID:27018-1756980000-1756987200@www.adventistedge.com
SUMMARY:Georgia-Cumberland Conference Board of Education Meeting
DESCRIPTION:
URL:https://www.adventistedge.com/event/georgia-cumberland-conference-board-of-education-meeting/
LOCATION:Georgia-Cumberland Conference Office
ORGANIZER;CN="Debbie Begley":MAILTO:dbegley@gccsda.com
END:VEVENT
BEGIN:VEVENT
DTSTART;VALUE=DATE:20250904
DTEND;VALUE=DATE:20250905
DTSTAMP:20260423T055719
CREATED:20250408T213331Z
LAST-MODIFIED:20250722T181313Z
UID:26357-1756944000-1757030399@www.adventistedge.com
SUMMARY:Senior Academy Celebration Day - Forest Lake Academy
DESCRIPTION:
URL:https://www.adventistedge.com/event/fla-day/
LOCATION:SUCOE\, 302 Reseach Dr\, Peachtree Dr\, GA\, 30097\, United States
END:VEVENT
BEGIN:VEVENT
DTSTART;TZID=America/New_York:20250828T170000
DTEND;TZID=America/New_York:20250828T190000
DTSTAMP:20260423T055719
CREATED:20250709T150709Z
LAST-MODIFIED:20250709T150753Z
UID:26601-1756400400-1756407600@www.adventistedge.com
SUMMARY:Senior Academy Business Manager/School Treasurer Committee
DESCRIPTION:
URL:https://www.adventistedge.com/event/senior-academy-business-manager-school-treasurer-committee/
LOCATION:Via Teams Invite
END:VEVENT
BEGIN:VEVENT
DTSTART;VALUE=DATE:20250820
DTEND;VALUE=DATE:20250821
DTSTAMP:20260423T055719
CREATED:20250827T153407Z
LAST-MODIFIED:20250827T154214Z
UID:27014-1755648000-1755734399@www.adventistedge.com
SUMMARY:Early Childhood Education Advisory
DESCRIPTION:
URL:https://www.adventistedge.com/event/early-childhood-education-advisory/
LOCATION:Via Teams Invite
ORGANIZER;CN="Lori Thieme - Early Childhood Education Associate Director":MAILTO:lthieme@southernunion.com
END:VEVENT
BEGIN:VEVENT
DTSTART;VALUE=DATE:20250814
DTEND;VALUE=DATE:20250815
DTSTAMP:20260423T055719
CREATED:20250408T213158Z
LAST-MODIFIED:20250722T173859Z
UID:26355-1755129600-1755215999@www.adventistedge.com
SUMMARY:Senior Academy Celebration - North Tampa Christian Academy Day
DESCRIPTION:
URL:https://www.adventistedge.com/event/ntca-day/
LOCATION:SUCOE\, 302 Reseach Dr\, Peachtree Dr\, GA\, 30097\, United States
END:VEVENT
BEGIN:VEVENT
DTSTART;VALUE=DATE:20250805
DTEND;VALUE=DATE:20250806
DTSTAMP:20260423T055719
CREATED:20250709T160411Z
LAST-MODIFIED:20250709T160433Z
UID:26621-1754352000-1754438399@www.adventistedge.com
SUMMARY:Senior Academy Celebration - Mount Pisgah Academy Day
DESCRIPTION:
URL:https://www.adventistedge.com/event/senior-academy-celebration-mount-pisgah-academy-day/
LOCATION:Mount Pisgah Academy\, 75 Academy Drive\, Candler\, NC\, 28715
END:VEVENT
BEGIN:VEVENT
DTSTART;TZID=America/New_York:20250610T180000
DTEND;TZID=America/New_York:20250610T190000
DTSTAMP:20260423T055719
CREATED:20250212T223753Z
LAST-MODIFIED:20250212T223753Z
UID:26128-1749578400-1749582000@www.adventistedge.com
SUMMARY:Secondary Education - Oakwood Adventist Academy Board
DESCRIPTION:
URL:https://www.adventistedge.com/event/secondary-education-oakwood-adventist-academy-board-2/
LOCATION:Oakwood Adventist Academy
END:VEVENT
BEGIN:VEVENT
DTSTART;TZID=America/New_York:20250515T180000
DTEND;TZID=America/New_York:20250515T190000
DTSTAMP:20260423T055719
CREATED:20250212T223849Z
LAST-MODIFIED:20250212T223849Z
UID:26131-1747332000-1747335600@www.adventistedge.com
SUMMARY:Secondary Education - Ephesus Adventist Academy Board
DESCRIPTION:
URL:https://www.adventistedge.com/event/secondary-education-ephesus-adventist-academy-board-4/
LOCATION:Zoom Meeting
END:VEVENT
BEGIN:VEVENT
DTSTART;VALUE=DATE:20250513
DTEND;VALUE=DATE:20250515
DTSTAMP:20260423T055719
CREATED:20250305T210303Z
LAST-MODIFIED:20250305T210303Z
UID:26156-1747094400-1747267199@www.adventistedge.com
SUMMARY:Certification Review Committee\, Accreditation Review Committee\, Junior Academy Review\, and Superintendents Advisory
DESCRIPTION:
URL:https://www.adventistedge.com/event/certification-review-committee-accreditation-review-committee-junior-academy-review-and-superintendents-advisory/
LOCATION:Southern Union Conference\, 302 Research Drive\, Norcross\, GA\, 30092\, United States
END:VEVENT
BEGIN:VEVENT
DTSTART;TZID=America/New_York:20250507T090000
DTEND;TZID=America/New_York:20250507T140000
DTSTAMP:20260423T055719
CREATED:20240904T201450Z
LAST-MODIFIED:20240904T201450Z
UID:25719-1746608400-1746626400@www.adventistedge.com
SUMMARY:Florida Conference - Board of Education
DESCRIPTION:In-Person
URL:https://www.adventistedge.com/event/florida-conference-board-of-education-3/
LOCATION:Florida Conference\, 351 S. State Road 434\, Altamonte Springs\, FL\, 32714\, United States
END:VEVENT
BEGIN:VEVENT
DTSTART;TZID=America/New_York:20250507T000000
DTEND;TZID=America/New_York:20250507T000000
DTSTAMP:20260423T055719
CREATED:20240918T205203Z
LAST-MODIFIED:20240918T205357Z
UID:25830-1746576000-1746576000@www.adventistedge.com
SUMMARY:Early Childhood Accreditation Review Meeting
DESCRIPTION:Associate Advisory Members\nOnline\nTime: TBD
URL:https://www.adventistedge.com/event/25830/
END:VEVENT
BEGIN:VEVENT
DTSTART;TZID=America/New_York:20250506T093000
DTEND;TZID=America/New_York:20250506T093000
DTSTAMP:20260423T055719
CREATED:20240903T181814Z
LAST-MODIFIED:20240903T181814Z
UID:25633-1746523800-1746523800@www.adventistedge.com
SUMMARY:Board of Education- Gulf State Conference
DESCRIPTION:CST
URL:https://www.adventistedge.com/event/board-of-education-gulf-state-conference-2/
LOCATION:Bass Memorial Academy
END:VEVENT
BEGIN:VEVENT
DTSTART;TZID=America/New_York:20250505T183000
DTEND;TZID=America/New_York:20250505T193000
DTSTAMP:20260423T055719
CREATED:20250212T224006Z
LAST-MODIFIED:20250212T224006Z
UID:26133-1746469800-1746473400@www.adventistedge.com
SUMMARY:Secondary Education - Collegedale Academy Board
DESCRIPTION:
URL:https://www.adventistedge.com/event/secondary-education-collegedale-academy-board-2/
LOCATION:Collegedale Academy
END:VEVENT
BEGIN:VEVENT
DTSTART;TZID=America/New_York:20250501T170000
DTEND;TZID=America/New_York:20250501T190000
DTSTAMP:20260423T055719
CREATED:20241223T162143Z
LAST-MODIFIED:20241223T162143Z
UID:26068-1746118800-1746126000@www.adventistedge.com
SUMMARY:#2getherweteach! SUCOE Professional Learning Communities (PLC’s)
DESCRIPTION:5 pm EST Technology/Graphic Design/Photography\, Drafting/CAD\, Information Technology\n6 pm EST Practical Arts (Home Economics\, Woodworking/Carpentry/Metal Working\, Culinary Arts\, Fashion Design\, Automotive\, Business & Marketing\, Agricultural Sciences)
URL:https://www.adventistedge.com/event/2getherweteach-sucoe-professional-learning-communities-plcs-12/
LOCATION:Zoom Meeting
END:VEVENT
BEGIN:VEVENT
DTSTART;TZID=America/New_York:20250501T133000
DTEND;TZID=America/New_York:20250501T153000
DTSTAMP:20260423T055719
CREATED:20240904T145543Z
LAST-MODIFIED:20240904T145543Z
UID:25705-1746106200-1746113400@www.adventistedge.com
SUMMARY:Carolina Conference – K-12 Board of Education
DESCRIPTION:Mount Pisgah Academy Library and are held in person (Zoom link is available upon request)
URL:https://www.adventistedge.com/event/carolina-conference-k-12-board-of-education-2/
LOCATION:Mount Pisgah Academy\, 75 Academy Drive\, Candler\, NC\, 28715
END:VEVENT
BEGIN:VEVENT
DTSTART;TZID=America/New_York:20250501T100000
DTEND;TZID=America/New_York:20250501T100000
DTSTAMP:20260423T055719
CREATED:20240904T145125Z
LAST-MODIFIED:20250430T151743Z
UID:25701-1746093600-1746093600@www.adventistedge.com
SUMMARY:Mount Pisgah Academy Board
DESCRIPTION:Held in: Mount Pisgah Academy Library
URL:https://www.adventistedge.com/event/mount-pisgah-academy-board-2/
LOCATION:Mount Pisgah Academy\, 75 Academy Drive\, Candler\, NC\, 28715
END:VEVENT
BEGIN:VEVENT
DTSTART;TZID=America/New_York:20250430T170000
DTEND;TZID=America/New_York:20250430T190000
DTSTAMP:20260423T055719
CREATED:20241223T161732Z
LAST-MODIFIED:20241223T161732Z
UID:26065-1746032400-1746039600@www.adventistedge.com
SUMMARY:#2getherweteach! SUCOE Professional Learning Communities (PLC’s)
DESCRIPTION:5 pm EST Fine Arts (Music/Art/Drama)\n6 pm EST Modern/Foreign Language
URL:https://www.adventistedge.com/event/2getherweteach-sucoe-professional-learning-communities-plcs-11/
LOCATION:Zoom Meeting
END:VEVENT
BEGIN:VEVENT
DTSTART;TZID=America/New_York:20250429T170000
DTEND;TZID=America/New_York:20250429T190000
DTSTAMP:20260423T055719
CREATED:20241223T161435Z
LAST-MODIFIED:20241223T161435Z
UID:26063-1745946000-1745953200@www.adventistedge.com
SUMMARY:#2getherweteach! SUCOE Professional Learning Communities (PLC’s)
DESCRIPTION:5 pm EST English\n6 pm EST PE Health
URL:https://www.adventistedge.com/event/2getherweteach-sucoe-professional-learning-communities-plcs-10/
LOCATION:Zoom Meeting
END:VEVENT
BEGIN:VEVENT
DTSTART;TZID=America/New_York:20250428T180000
DTEND;TZID=America/New_York:20250428T190000
DTSTAMP:20260423T055719
CREATED:20250212T224115Z
LAST-MODIFIED:20250212T224115Z
UID:26136-1745863200-1745866800@www.adventistedge.com
SUMMARY:Secondary Education - Greater Atlanta Adventist Academy Board
DESCRIPTION:
URL:https://www.adventistedge.com/event/secondary-education-greater-atlanta-adventist-academy-board-4/
LOCATION:Greater Atlanta Adventist Academy
END:VEVENT
BEGIN:VEVENT
DTSTART;TZID=America/New_York:20250428T170000
DTEND;TZID=America/New_York:20250428T190000
DTSTAMP:20260423T055719
CREATED:20241223T161255Z
LAST-MODIFIED:20241223T161255Z
UID:26061-1745859600-1745866800@www.adventistedge.com
SUMMARY:#2getherweteach! SUCOE Professional Learning Communities (PLC’s)
DESCRIPTION:5 pm EST Bible/Religion/Social Studies/History\n6 pm EST Math/Science/STEM
URL:https://www.adventistedge.com/event/2getherweteach-sucoe-professional-learning-communities-plcs-9/
LOCATION:Zoom Meeting
END:VEVENT
BEGIN:VEVENT
DTSTART;TZID=America/New_York:20250424T100000
DTEND;TZID=America/New_York:20250424T120000
DTSTAMP:20260423T055719
CREATED:20250212T224238Z
LAST-MODIFIED:20250212T224238Z
UID:26138-1745488800-1745496000@www.adventistedge.com
SUMMARY:Secondary Education - Georgia Cumberland Academy Board
DESCRIPTION:
URL:https://www.adventistedge.com/event/secondary-education-georgia-cumberland-academy-board-2/
LOCATION:Georgia Cumberland Academy
END:VEVENT
BEGIN:VEVENT
DTSTART;VALUE=DATE:20250423
DTEND;VALUE=DATE:20250425
DTSTAMP:20260423T055719
CREATED:20250305T210158Z
LAST-MODIFIED:20250414T210719Z
UID:26154-1745366400-1745539199@www.adventistedge.com
SUMMARY:Elementary Advisory
DESCRIPTION:
URL:https://www.adventistedge.com/event/elementary-advisory/
LOCATION:ACA- Raleigh\, 4805 Dillard Dr.\, Raleigh\, NC\, 27606\, United States
END:VEVENT
BEGIN:VEVENT
DTSTART;TZID=America/New_York:20250417T180000
DTEND;TZID=America/New_York:20250417T190000
DTSTAMP:20260423T055719
CREATED:20250212T224340Z
LAST-MODIFIED:20250212T224340Z
UID:26140-1744912800-1744916400@www.adventistedge.com
SUMMARY:Secondary Education - Ephesus Adventist Academy Board
DESCRIPTION:
URL:https://www.adventistedge.com/event/secondary-education-ephesus-adventist-academy-board-5/
LOCATION:Zoom Meeting
END:VEVENT
BEGIN:VEVENT
DTSTART;TZID=America/New_York:20250417T100000
DTEND;TZID=America/New_York:20250417T120000
DTSTAMP:20260423T055719
CREATED:20240903T184836Z
LAST-MODIFIED:20240903T184836Z
UID:25644-1744884000-1744891200@www.adventistedge.com
SUMMARY:K12 Board Meeting – Kentucky-Tennessee Conference
DESCRIPTION:
URL:https://www.adventistedge.com/event/k12-board-meeting-kentucky-tennessee-conference-2/
LOCATION:Kentucky-Tennessee Conference
END:VEVENT
BEGIN:VEVENT
DTSTART;TZID=America/New_York:20250410T183000
DTEND;TZID=America/New_York:20250410T193000
DTSTAMP:20260423T055719
CREATED:20250212T224454Z
LAST-MODIFIED:20250212T224454Z
UID:26142-1744309800-1744313400@www.adventistedge.com
SUMMARY:Secondary Education- Greater Miami Adventist Academy Board
DESCRIPTION:
URL:https://www.adventistedge.com/event/secondary-education-greater-miami-adventist-academy-board-2/
LOCATION:Greater Miami Adventist Academy
END:VEVENT
BEGIN:VEVENT
DTSTART;TZID=America/New_York:20250410T170000
DTEND;TZID=America/New_York:20250410T180000
DTSTAMP:20260423T055719
CREATED:20241223T171255Z
LAST-MODIFIED:20241223T171255Z
UID:26092-1744304400-1744308000@www.adventistedge.com
SUMMARY:Business Manager/ School Treasurers
DESCRIPTION:
URL:https://www.adventistedge.com/event/business-manager-school-treasurers/
END:VEVENT
BEGIN:VEVENT
DTSTART;TZID=America/New_York:20250408T183000
DTEND;TZID=America/New_York:20250408T190000
DTSTAMP:20260423T055719
CREATED:20250212T224631Z
LAST-MODIFIED:20250212T224631Z
UID:26145-1744137000-1744138800@www.adventistedge.com
SUMMARY:Secondary Education - Collegedale Academy Board
DESCRIPTION:
URL:https://www.adventistedge.com/event/secondary-education-collegedale-academy-board-3/
LOCATION:Collegedale Academy
END:VEVENT
BEGIN:VEVENT
DTSTART;TZID=America/New_York:20250408T180000
DTEND;TZID=America/New_York:20250408T183000
DTSTAMP:20260423T055719
CREATED:20250212T224741Z
LAST-MODIFIED:20250212T224741Z
UID:26147-1744135200-1744137000@www.adventistedge.com
SUMMARY:Secondary Education - Oakwood Adventist Academy Board
DESCRIPTION:
URL:https://www.adventistedge.com/event/secondary-education-oakwood-adventist-academy-board-3/
LOCATION:Oakwood Adventist Academy
END:VEVENT
END:VCALENDAR