BEGIN:VCALENDAR
VERSION:2.0
PRODID:-//Adventist Edge - ECPv6.15.13//NONSGML v1.0//EN
CALSCALE:GREGORIAN
METHOD:PUBLISH
X-ORIGINAL-URL:https://www.adventistedge.com
X-WR-CALDESC:Events for Adventist Edge
REFRESH-INTERVAL;VALUE=DURATION:PT1H
X-Robots-Tag:noindex
X-PUBLISHED-TTL:PT1H
BEGIN:VTIMEZONE
TZID:America/New_York
BEGIN:DAYLIGHT
TZOFFSETFROM:-0500
TZOFFSETTO:-0400
TZNAME:EDT
DTSTART:20260308T070000
END:DAYLIGHT
BEGIN:STANDARD
TZOFFSETFROM:-0400
TZOFFSETTO:-0500
TZNAME:EST
DTSTART:20261101T060000
END:STANDARD
BEGIN:DAYLIGHT
TZOFFSETFROM:-0500
TZOFFSETTO:-0400
TZNAME:EDT
DTSTART:20270314T070000
END:DAYLIGHT
BEGIN:STANDARD
TZOFFSETFROM:-0400
TZOFFSETTO:-0500
TZNAME:EST
DTSTART:20271107T060000
END:STANDARD
BEGIN:DAYLIGHT
TZOFFSETFROM:-0500
TZOFFSETTO:-0400
TZNAME:EDT
DTSTART:20280312T070000
END:DAYLIGHT
BEGIN:STANDARD
TZOFFSETFROM:-0400
TZOFFSETTO:-0500
TZNAME:EST
DTSTART:20281105T060000
END:STANDARD
BEGIN:DAYLIGHT
TZOFFSETFROM:-0500
TZOFFSETTO:-0400
TZNAME:EDT
DTSTART:20290311T070000
END:DAYLIGHT
BEGIN:STANDARD
TZOFFSETFROM:-0400
TZOFFSETTO:-0500
TZNAME:EST
DTSTART:20291104T060000
END:STANDARD
END:VTIMEZONE
BEGIN:VEVENT
DTSTART;VALUE=DATE:20270209
DTEND;VALUE=DATE:20270210
DTSTAMP:20260423T071008
CREATED:20260422T204055Z
LAST-MODIFIED:20260422T204055Z
UID:27334-1802131200-1802217599@www.adventistedge.com
SUMMARY:PLC’s - Fine Arts
DESCRIPTION:
URL:https://www.adventistedge.com/event/plcs-fine-arts/
LOCATION:Via Teams Invite
END:VEVENT
BEGIN:VEVENT
DTSTART;VALUE=DATE:20270210
DTEND;VALUE=DATE:20270211
DTSTAMP:20260423T071008
CREATED:20260422T204350Z
LAST-MODIFIED:20260422T204350Z
UID:27338-1802217600-1802303999@www.adventistedge.com
SUMMARY:PLC’s - Practical Arts
DESCRIPTION:
URL:https://www.adventistedge.com/event/plcs-practical-arts/
LOCATION:Via Teams Invite
END:VEVENT
BEGIN:VEVENT
DTSTART;VALUE=DATE:20270210
DTEND;VALUE=DATE:20270211
DTSTAMP:20260423T071008
CREATED:20260422T204718Z
LAST-MODIFIED:20260422T204718Z
UID:27341-1802217600-1802303999@www.adventistedge.com
SUMMARY:PLC’s - PE/Health
DESCRIPTION:
URL:https://www.adventistedge.com/event/plcs-pe-health-2/
LOCATION:Via Teams Invite
END:VEVENT
BEGIN:VEVENT
DTSTART;VALUE=DATE:20270211
DTEND;VALUE=DATE:20270212
DTSTAMP:20260423T071008
CREATED:20260422T204939Z
LAST-MODIFIED:20260422T204939Z
UID:27346-1802304000-1802390399@www.adventistedge.com
SUMMARY:PLC’s - Modern/Foreign Languages
DESCRIPTION:
URL:https://www.adventistedge.com/event/plcs-modern-foreign-languages-2/
LOCATION:Via Teams Invite
END:VEVENT
BEGIN:VEVENT
DTSTART;VALUE=DATE:20270325
DTEND;VALUE=DATE:20270326
DTSTAMP:20260423T071008
CREATED:20260421T142050Z
LAST-MODIFIED:20260421T142100Z
UID:27308-1805932800-1806019199@www.adventistedge.com
SUMMARY:Business Managers
DESCRIPTION:
URL:https://www.adventistedge.com/event/business-managers-teams-march-25/
LOCATION:Via Teams Invite
END:VEVENT
BEGIN:VEVENT
DTSTART;VALUE=DATE:20270327
DTEND;VALUE=DATE:20270328
DTSTAMP:20260423T071008
CREATED:20250827T182917Z
LAST-MODIFIED:20250827T182917Z
UID:27032-1806105600-1806191999@www.adventistedge.com
SUMMARY:SU Pathfinder Bible Experience
DESCRIPTION:
URL:https://www.adventistedge.com/event/su-pathfinder-bible-experience-2/
END:VEVENT
BEGIN:VEVENT
DTSTART;VALUE=DATE:20270331
DTEND;VALUE=DATE:20270401
DTSTAMP:20260423T071008
CREATED:20260421T140159Z
LAST-MODIFIED:20260421T140159Z
UID:27298-1806451200-1806537599@www.adventistedge.com
SUMMARY:Progress Reports
DESCRIPTION:
URL:https://www.adventistedge.com/event/progress-reports/
LOCATION:Southern Union Conference\, 302 Research Drive\, Norcross\, GA\, 30092\, United States
END:VEVENT
BEGIN:VEVENT
DTSTART;VALUE=DATE:20270408
DTEND;VALUE=DATE:20270409
DTSTAMP:20260423T071008
CREATED:20260422T185758Z
LAST-MODIFIED:20260422T185758Z
UID:27316-1807142400-1807228799@www.adventistedge.com
SUMMARY:Registrar
DESCRIPTION:
URL:https://www.adventistedge.com/event/registrar-2/
END:VEVENT
BEGIN:VEVENT
DTSTART;TZID=America/New_York:20270506T133000
DTEND;TZID=America/New_York:20270506T153000
DTSTAMP:20260423T071008
CREATED:20250507T202722Z
LAST-MODIFIED:20250507T202722Z
UID:26433-1809610200-1809617400@www.adventistedge.com
SUMMARY:Carolina Conference Board of Education
DESCRIPTION:
URL:https://www.adventistedge.com/event/carolina-conference-board-of-education-5/
LOCATION:MPA Library
END:VEVENT
BEGIN:VEVENT
DTSTART;TZID=America/New_York:20270909T133000
DTEND;TZID=America/New_York:20270909T153000
DTSTAMP:20260423T071008
CREATED:20250507T202759Z
LAST-MODIFIED:20250507T202759Z
UID:26435-1820496600-1820503800@www.adventistedge.com
SUMMARY:Carolina Conference Board of Education
DESCRIPTION:
URL:https://www.adventistedge.com/event/carolina-conference-board-of-education-6/
LOCATION:MPA Library
END:VEVENT
BEGIN:VEVENT
DTSTART;TZID=America/New_York:20280127T133000
DTEND;TZID=America/New_York:20280127T153000
DTSTAMP:20260423T071008
CREATED:20250507T202849Z
LAST-MODIFIED:20250507T202849Z
UID:26437-1832592600-1832599800@www.adventistedge.com
SUMMARY:Carolina Conference Board of Education
DESCRIPTION:
URL:https://www.adventistedge.com/event/carolina-conference-board-of-education-7/
LOCATION:MPA Library
END:VEVENT
BEGIN:VEVENT
DTSTART;TZID=America/New_York:20280504T133000
DTEND;TZID=America/New_York:20280504T153000
DTSTAMP:20260423T071008
CREATED:20250507T202928Z
LAST-MODIFIED:20250507T202928Z
UID:26439-1841059800-1841067000@www.adventistedge.com
SUMMARY:Carolina Conference Board of Education
DESCRIPTION:
URL:https://www.adventistedge.com/event/carolina-conference-board-of-education-8/
LOCATION:MPA Library
END:VEVENT
BEGIN:VEVENT
DTSTART;TZID=America/New_York:20280907T133000
DTEND;TZID=America/New_York:20280907T153000
DTSTAMP:20260423T071008
CREATED:20250507T203018Z
LAST-MODIFIED:20250507T203018Z
UID:26441-1851946200-1851953400@www.adventistedge.com
SUMMARY:Carolina Conference Board of Education
DESCRIPTION:
URL:https://www.adventistedge.com/event/carolina-conference-board-of-education-9/
LOCATION:MPA Library
END:VEVENT
END:VCALENDAR