BEGIN:VCALENDAR
VERSION:2.0
PRODID:-//Adventist Edge - ECPv6.15.13//NONSGML v1.0//EN
CALSCALE:GREGORIAN
METHOD:PUBLISH
X-ORIGINAL-URL:https://www.adventistedge.com
X-WR-CALDESC:Events for Adventist Edge
REFRESH-INTERVAL;VALUE=DURATION:PT1H
X-Robots-Tag:noindex
X-PUBLISHED-TTL:PT1H
BEGIN:VTIMEZONE
TZID:America/New_York
BEGIN:DAYLIGHT
TZOFFSETFROM:-0500
TZOFFSETTO:-0400
TZNAME:EDT
DTSTART:20240310T070000
END:DAYLIGHT
BEGIN:STANDARD
TZOFFSETFROM:-0400
TZOFFSETTO:-0500
TZNAME:EST
DTSTART:20241103T060000
END:STANDARD
BEGIN:DAYLIGHT
TZOFFSETFROM:-0500
TZOFFSETTO:-0400
TZNAME:EDT
DTSTART:20250309T070000
END:DAYLIGHT
BEGIN:STANDARD
TZOFFSETFROM:-0400
TZOFFSETTO:-0500
TZNAME:EST
DTSTART:20251102T060000
END:STANDARD
BEGIN:DAYLIGHT
TZOFFSETFROM:-0500
TZOFFSETTO:-0400
TZNAME:EDT
DTSTART:20260308T070000
END:DAYLIGHT
BEGIN:STANDARD
TZOFFSETFROM:-0400
TZOFFSETTO:-0500
TZNAME:EST
DTSTART:20261101T060000
END:STANDARD
END:VTIMEZONE
BEGIN:VEVENT
DTSTART;TZID=America/New_York:20250407T170000
DTEND;TZID=America/New_York:20250407T180000
DTSTAMP:20260423T104507
CREATED:20241223T171054Z
LAST-MODIFIED:20241223T171054Z
UID:26090-1744045200-1744048800@www.adventistedge.com
SUMMARY:Principal Cohort 24-25 - Secondary Education
DESCRIPTION:
URL:https://www.adventistedge.com/event/principal-cohort-24-25-secondary-education-2/
END:VEVENT
BEGIN:VEVENT
DTSTART;TZID=America/New_York:20250331T080000
DTEND;TZID=America/New_York:20250331T170000
DTSTAMP:20260423T104507
CREATED:20241223T171534Z
LAST-MODIFIED:20241223T171534Z
UID:26094-1743408000-1743440400@www.adventistedge.com
SUMMARY:Annual Progress Reports Due - Senior Academy's/ Secondary Education
DESCRIPTION:
URL:https://www.adventistedge.com/event/annual-progress-reports-due-senior-academys-secondary-education/
END:VEVENT
BEGIN:VEVENT
DTSTART;VALUE=DATE:20250327
DTEND;VALUE=DATE:20250328
DTSTAMP:20260423T104507
CREATED:20250319T193426Z
LAST-MODIFIED:20250319T193426Z
UID:26176-1743033600-1743119999@www.adventistedge.com
SUMMARY:Early Childhood Education – Georgia Cumberland and South Atlantic
DESCRIPTION:
URL:https://www.adventistedge.com/event/early-childhood-education-georgia-cumberland-and-south-atlantic/
LOCATION:South Atlantic Conference
ORGANIZER;CN="Lori Thieme - Early Childhood Education Associate Director":MAILTO:lthieme@southernunion.com
END:VEVENT
BEGIN:VEVENT
DTSTART;TZID=America/New_York:20250326T013000
DTEND;TZID=America/New_York:20250326T170000
DTSTAMP:20260423T104507
CREATED:20250305T210045Z
LAST-MODIFIED:20250305T210045Z
UID:26152-1742952600-1743008400@www.adventistedge.com
SUMMARY:SUCOE-Board of Education
DESCRIPTION:
URL:https://www.adventistedge.com/event/sucoe-board-of-education/
LOCATION:Southern Union Conference\, 302 Research Drive\, Norcross\, GA\, 30092\, United States
END:VEVENT
BEGIN:VEVENT
DTSTART;VALUE=DATE:20250325
DTEND;VALUE=DATE:20250326
DTSTAMP:20260423T104507
CREATED:20240918T215824Z
LAST-MODIFIED:20240918T215824Z
UID:25851-1742860800-1742947199@www.adventistedge.com
SUMMARY:Early Childhood Education - Florida and Southeastern Conference
DESCRIPTION:
URL:https://www.adventistedge.com/event/early-childhood-education-florida-and-southeastern-conference/
LOCATION:Florida Conference\, 351 S. State Road 434\, Altamonte Springs\, FL\, 32714\, United States
END:VEVENT
BEGIN:VEVENT
DTSTART;TZID=America/New_York:20250324T180000
DTEND;TZID=America/New_York:20250324T190000
DTSTAMP:20260423T104507
CREATED:20250212T223533Z
LAST-MODIFIED:20250212T223533Z
UID:26126-1742839200-1742842800@www.adventistedge.com
SUMMARY:Secondary Education - Greater Atlanta Adventist Academy Board
DESCRIPTION:
URL:https://www.adventistedge.com/event/secondary-education-greater-atlanta-adventist-academy-board-3/
LOCATION:Greater Atlanta Adventist Academy
END:VEVENT
BEGIN:VEVENT
DTSTART;TZID=America/New_York:20250320T180000
DTEND;TZID=America/New_York:20250320T190000
DTSTAMP:20260423T104507
CREATED:20250212T222905Z
LAST-MODIFIED:20250212T222905Z
UID:26123-1742493600-1742497200@www.adventistedge.com
SUMMARY:Secondary Education - Ephesus Adventist Academy Board
DESCRIPTION:
URL:https://www.adventistedge.com/event/secondary-education-ephesus-adventist-academy-board-3/
LOCATION:Zoom Meeting
END:VEVENT
BEGIN:VEVENT
DTSTART;VALUE=DATE:20250318
DTEND;VALUE=DATE:20250319
DTSTAMP:20260423T104507
CREATED:20240918T215245Z
LAST-MODIFIED:20240918T215245Z
UID:25844-1742256000-1742342399@www.adventistedge.com
SUMMARY:Early Childhood Education - Carolina Conference of Seventh-day Adventists
DESCRIPTION:
URL:https://www.adventistedge.com/event/early-childhood-education-carolina-conference-of-seventh-day-adventists/
LOCATION:North Carolina Conference Office\, 2701 East WT Harris Boulevard\, Charlotte\, NC\, 28213
END:VEVENT
BEGIN:VEVENT
DTSTART;TZID=America/New_York:20250313T130000
DTEND;TZID=America/New_York:20250313T170000
DTSTAMP:20260423T104507
CREATED:20241223T171717Z
LAST-MODIFIED:20241223T171717Z
UID:26096-1741870800-1741885200@www.adventistedge.com
SUMMARY:Registrars - Secondary Education
DESCRIPTION:
URL:https://www.adventistedge.com/event/registrars-secondary-education/
LOCATION:Zoom Meeting
END:VEVENT
BEGIN:VEVENT
DTSTART;TZID=America/New_York:20250312T090000
DTEND;TZID=America/New_York:20250312T140000
DTSTAMP:20260423T104507
CREATED:20240904T201358Z
LAST-MODIFIED:20240904T201358Z
UID:25717-1741770000-1741788000@www.adventistedge.com
SUMMARY:Florida Conference - Board of Education
DESCRIPTION:In-Person
URL:https://www.adventistedge.com/event/florida-conference-board-of-education-2/
LOCATION:Florida Conference\, 351 S. State Road 434\, Altamonte Springs\, FL\, 32714\, United States
END:VEVENT
BEGIN:VEVENT
DTSTART;TZID=America/New_York:20250306T170000
DTEND;TZID=America/New_York:20250306T180000
DTSTAMP:20260423T104507
CREATED:20241223T172445Z
LAST-MODIFIED:20241223T172445Z
UID:26098-1741280400-1741284000@www.adventistedge.com
SUMMARY:Curriculum Committee - Secondary Education
DESCRIPTION:
URL:https://www.adventistedge.com/event/curriculum-committee-secondary-education/
LOCATION:Zoom Meeting
END:VEVENT
BEGIN:VEVENT
DTSTART;TZID=America/New_York:20250304T093000
DTEND;TZID=America/New_York:20250304T093000
DTSTAMP:20260423T104507
CREATED:20240903T181649Z
LAST-MODIFIED:20240903T181649Z
UID:25631-1741080600-1741080600@www.adventistedge.com
SUMMARY:Board of Education- Gulf State Conference
DESCRIPTION:CST
URL:https://www.adventistedge.com/event/board-of-education-gulf-state-conference/
LOCATION:Bass Memorial Academy
END:VEVENT
BEGIN:VEVENT
DTSTART;TZID=America/New_York:20250227T170000
DTEND;TZID=America/New_York:20250227T190000
DTSTAMP:20260423T104507
CREATED:20241223T160459Z
LAST-MODIFIED:20241223T160459Z
UID:26055-1740675600-1740682800@www.adventistedge.com
SUMMARY:#2getherweteach! SUCOE Professional Learning Communities (PLC’s)
DESCRIPTION:5 pm EST Technology/Graphic Design/Photography\, Drafting/CAD\, Information Technology\n6 pm EST Practical Arts (Home Economics\, Woodworking/Carpentry/Metal Working\, Culinary Arts\, Fashion Design\, Automotive\, Business & Marketing\, Agricultural Sciences)
URL:https://www.adventistedge.com/event/2getherweteach-sucoe-professional-learning-communities-plcs-8/
LOCATION:Zoom Meeting
END:VEVENT
BEGIN:VEVENT
DTSTART;VALUE=DATE:20250227
DTEND;VALUE=DATE:20250228
DTSTAMP:20260423T104507
CREATED:20240918T211734Z
LAST-MODIFIED:20240918T213844Z
UID:25841-1740614400-1740700799@www.adventistedge.com
SUMMARY:Early Childhood Education - Gulf State Conference Meeting
DESCRIPTION:
URL:https://www.adventistedge.com/event/early-childhood-education-gulf-state-conference-meeting/
LOCATION:Gulf States Conference
END:VEVENT
BEGIN:VEVENT
DTSTART;TZID=America/New_York:20250226T170000
DTEND;TZID=America/New_York:20250226T190000
DTSTAMP:20260423T104507
CREATED:20241223T160256Z
LAST-MODIFIED:20241223T160256Z
UID:26053-1740589200-1740596400@www.adventistedge.com
SUMMARY:#2getherweteach! SUCOE Professional Learning Communities (PLC’s)
DESCRIPTION:5 pm EST Fine Arts (Music/Art/Drama)\n6 pm EST Modern/Foreign Language
URL:https://www.adventistedge.com/event/2getherweteach-sucoe-professional-learning-communities-plcs-7/
LOCATION:Zoom Meeting
END:VEVENT
BEGIN:VEVENT
DTSTART;TZID=America/New_York:20250225T170000
DTEND;TZID=America/New_York:20250225T190000
DTSTAMP:20260423T104507
CREATED:20241223T160000Z
LAST-MODIFIED:20241223T160000Z
UID:26051-1740502800-1740510000@www.adventistedge.com
SUMMARY:#2getherweteach! SUCOE Professional Learning Communities (PLC’s)
DESCRIPTION:5 pm EST English\n6 pm EST PE Health
URL:https://www.adventistedge.com/event/2getherweteach-sucoe-professional-learning-communities-plcs-6/
LOCATION:Zoom Meeting
END:VEVENT
BEGIN:VEVENT
DTSTART;TZID=America/New_York:20250225T093000
DTEND;TZID=America/New_York:20250225T160000
DTSTAMP:20260423T104507
CREATED:20240918T205745Z
LAST-MODIFIED:20240918T205838Z
UID:25836-1740475800-1740499200@www.adventistedge.com
SUMMARY:Early Childhood Education - Kentucky-Tennesse Meeting
DESCRIPTION:
URL:https://www.adventistedge.com/event/early-childhood-education-kentucky-tennesse/
LOCATION:Kentucky-Tennessee Conference
ORGANIZER;CN="Lori Thieme - Early Childhood Education Associate Director":MAILTO:lthieme@southernunion.com
END:VEVENT
BEGIN:VEVENT
DTSTART;TZID=America/New_York:20250224T180000
DTEND;TZID=America/New_York:20250224T200000
DTSTAMP:20260423T104507
CREATED:20250212T222437Z
LAST-MODIFIED:20250212T222437Z
UID:26116-1740420000-1740427200@www.adventistedge.com
SUMMARY:Secondary Education - Greater Atlanta Adventist Academy Board
DESCRIPTION:
URL:https://www.adventistedge.com/event/secondary-education-greater-atlanta-adventist-academy-board-2/
LOCATION:Greater Atlanta Adventist Academy
END:VEVENT
BEGIN:VEVENT
DTSTART;TZID=America/New_York:20250224T170000
DTEND;TZID=America/New_York:20250224T190000
DTSTAMP:20260423T104507
CREATED:20241223T155610Z
LAST-MODIFIED:20241223T155610Z
UID:26049-1740416400-1740423600@www.adventistedge.com
SUMMARY:#2getherweteach! SUCOE Professional Learning Communities (PLC’s)
DESCRIPTION:5 pm EST Bible/Religion/Social Studies/History\n6 pm EST Math/Science/STEM
URL:https://www.adventistedge.com/event/2getherweteach-sucoe-professional-learning-communities-plcs-5/
LOCATION:Zoom
END:VEVENT
BEGIN:VEVENT
DTSTART;TZID=America/New_York:20250220T180000
DTEND;TZID=America/New_York:20250220T190000
DTSTAMP:20260423T104507
CREATED:20250212T222230Z
LAST-MODIFIED:20250212T222230Z
UID:26114-1740074400-1740078000@www.adventistedge.com
SUMMARY:Secondary Education - Ephesus Adventist Academy Board
DESCRIPTION:
URL:https://www.adventistedge.com/event/secondary-education-ephesus-adventist-academy-board-2/
LOCATION:Zoom Meeting
END:VEVENT
BEGIN:VEVENT
DTSTART;VALUE=DATE:20250218
DTEND;VALUE=DATE:20250221
DTSTAMP:20260423T104507
CREATED:20241223T161005Z
LAST-MODIFIED:20241223T161005Z
UID:26059-1739836800-1740095999@www.adventistedge.com
SUMMARY:Education Council- Spring Meeting
DESCRIPTION:
URL:https://www.adventistedge.com/event/education-council-spring-meeting/
LOCATION:Southern Union Conference\, 302 Research Drive\, Norcross\, GA\, 30092\, United States
END:VEVENT
BEGIN:VEVENT
DTSTART;TZID=America/New_York:20250211T183000
DTEND;TZID=America/New_York:20250211T193000
DTSTAMP:20260423T104507
CREATED:20250212T222554Z
LAST-MODIFIED:20250212T222554Z
UID:26119-1739298600-1739302200@www.adventistedge.com
SUMMARY:Secondary Education - Greater Miami Adventist Academy Board
DESCRIPTION:
URL:https://www.adventistedge.com/event/secondary-education-greater-miami-adventist-academy-board/
END:VEVENT
BEGIN:VEVENT
DTSTART;TZID=America/New_York:20250211T170000
DTEND;TZID=America/New_York:20250211T180000
DTSTAMP:20260423T104507
CREATED:20241223T170935Z
LAST-MODIFIED:20241223T170935Z
UID:26088-1739293200-1739296800@www.adventistedge.com
SUMMARY:Principal Cohort 24-25 - Secondary Education
DESCRIPTION:
URL:https://www.adventistedge.com/event/principal-cohort-24-25-secondary-education/
LOCATION:Zoom Meeting
END:VEVENT
BEGIN:VEVENT
DTSTART;TZID=America/New_York:20250210T170000
DTEND;TZID=America/New_York:20250210T180000
DTSTAMP:20260423T104507
CREATED:20241223T170805Z
LAST-MODIFIED:20241223T170805Z
UID:26086-1739206800-1739210400@www.adventistedge.com
SUMMARY:Principal Cohort 23-24 - Secondary Education
DESCRIPTION:
URL:https://www.adventistedge.com/event/principal-cohort-23-24-secondary-education/
LOCATION:Zoom Meeting
END:VEVENT
BEGIN:VEVENT
DTSTART;TZID=America/New_York:20250204T183000
DTEND;TZID=America/New_York:20250204T193000
DTSTAMP:20260423T104507
CREATED:20250212T222702Z
LAST-MODIFIED:20250212T222702Z
UID:26121-1738693800-1738697400@www.adventistedge.com
SUMMARY:Secondary Education - Collegedale Academy Board
DESCRIPTION:
URL:https://www.adventistedge.com/event/secondary-education-collegedale-academy-board/
END:VEVENT
BEGIN:VEVENT
DTSTART;TZID=America/New_York:20250203T080000
DTEND;TZID=America/New_York:20250203T170000
DTSTAMP:20260423T104507
CREATED:20241223T170335Z
LAST-MODIFIED:20241223T170335Z
UID:26084-1738569600-1738602000@www.adventistedge.com
SUMMARY:Junior Academy Applications Due
DESCRIPTION:
URL:https://www.adventistedge.com/event/junior-academy-applications-due/
END:VEVENT
BEGIN:VEVENT
DTSTART;VALUE=DATE:20250203
DTEND;VALUE=DATE:20250206
DTSTAMP:20260423T104507
CREATED:20241223T160810Z
LAST-MODIFIED:20241223T160810Z
UID:26057-1738540800-1738799999@www.adventistedge.com
SUMMARY:Annual Administrative Assistant's Meeting - Southern Union Conference Office of Education
DESCRIPTION:
URL:https://www.adventistedge.com/event/annual-administrative-assistants-meeting-southern-union-conference-office-of-education/
LOCATION:Southern Union Conference\, 302 Research Drive\, Norcross\, GA\, 30092\, United States
END:VEVENT
BEGIN:VEVENT
DTSTART;TZID=America/New_York:20250127T180000
DTEND;TZID=America/New_York:20250127T190000
DTSTAMP:20260423T104507
CREATED:20241223T164037Z
LAST-MODIFIED:20241223T164037Z
UID:26078-1738000800-1738004400@www.adventistedge.com
SUMMARY:Secondary Education - Greater Atlanta Adventist Academy Board
DESCRIPTION:
URL:https://www.adventistedge.com/event/secondary-education-greater-atlanta-adventist-academy-board/
END:VEVENT
BEGIN:VEVENT
DTSTART;TZID=America/New_York:20250116T180000
DTEND;TZID=America/New_York:20250116T180000
DTSTAMP:20260423T104507
CREATED:20241223T163601Z
LAST-MODIFIED:20241223T163601Z
UID:26076-1737050400-1737050400@www.adventistedge.com
SUMMARY:Secondary Education - Ephesus Adventist Academy Board
DESCRIPTION:
URL:https://www.adventistedge.com/event/secondary-education-ephesus-adventist-academy-board/
LOCATION:Zoom Meeting
END:VEVENT
BEGIN:VEVENT
DTSTART;TZID=America/New_York:20250116T133000
DTEND;TZID=America/New_York:20250116T153000
DTSTAMP:20260423T104507
CREATED:20240903T214652Z
LAST-MODIFIED:20240903T215724Z
UID:25699-1737034200-1737041400@www.adventistedge.com
SUMMARY:Carolina Conference – K-12 Board of Education
DESCRIPTION:Mount Pisgah Academy Library and are held in person (Zoom link is available upon request)
URL:https://www.adventistedge.com/event/carolina-conference-board-of-education-meeting-2/
LOCATION:Mount Pisgah Academy\, 75 Academy Drive\, Candler\, NC\, 28715
END:VEVENT
END:VCALENDAR