BEGIN:VCALENDAR
VERSION:2.0
PRODID:-//Adventist Edge - ECPv6.15.13//NONSGML v1.0//EN
CALSCALE:GREGORIAN
METHOD:PUBLISH
X-WR-CALNAME:Adventist Edge
X-ORIGINAL-URL:https://www.adventistedge.com
X-WR-CALDESC:Events for Adventist Edge
REFRESH-INTERVAL;VALUE=DURATION:PT1H
X-Robots-Tag:noindex
X-PUBLISHED-TTL:PT1H
BEGIN:VTIMEZONE
TZID:America/New_York
BEGIN:DAYLIGHT
TZOFFSETFROM:-0500
TZOFFSETTO:-0400
TZNAME:EDT
DTSTART:20230312T070000
END:DAYLIGHT
BEGIN:STANDARD
TZOFFSETFROM:-0400
TZOFFSETTO:-0500
TZNAME:EST
DTSTART:20231105T060000
END:STANDARD
BEGIN:DAYLIGHT
TZOFFSETFROM:-0500
TZOFFSETTO:-0400
TZNAME:EDT
DTSTART:20240310T070000
END:DAYLIGHT
BEGIN:STANDARD
TZOFFSETFROM:-0400
TZOFFSETTO:-0500
TZNAME:EST
DTSTART:20241103T060000
END:STANDARD
BEGIN:DAYLIGHT
TZOFFSETFROM:-0500
TZOFFSETTO:-0400
TZNAME:EDT
DTSTART:20250309T070000
END:DAYLIGHT
BEGIN:STANDARD
TZOFFSETFROM:-0400
TZOFFSETTO:-0500
TZNAME:EST
DTSTART:20251102T060000
END:STANDARD
END:VTIMEZONE
BEGIN:VEVENT
DTSTART;VALUE=DATE:20240104
DTEND;VALUE=DATE:20240105
DTSTAMP:20260425T221331
CREATED:20230720T152944Z
LAST-MODIFIED:20230720T152944Z
UID:24440-1704326400-1704412799@www.adventistedge.com
SUMMARY:2nd Semester Begins
DESCRIPTION:
URL:https://www.adventistedge.com/event/2nd-semester-begins/
END:VEVENT
BEGIN:VEVENT
DTSTART;TZID=America/New_York:20240108T170000
DTEND;TZID=America/New_York:20240108T180000
DTSTAMP:20260425T221331
CREATED:20230803T205837Z
LAST-MODIFIED:20230815T122952Z
UID:24476-1704733200-1704736800@www.adventistedge.com
SUMMARY:Principal Cohort 23 Meeting
DESCRIPTION:
URL:https://www.adventistedge.com/event/principal-cohort-23-meeting-2/
END:VEVENT
BEGIN:VEVENT
DTSTART;VALUE=DATE:20240115
DTEND;VALUE=DATE:20240116
DTSTAMP:20260425T221331
CREATED:20230720T153829Z
LAST-MODIFIED:20230720T154121Z
UID:24442-1705276800-1705363199@www.adventistedge.com
SUMMARY:Martin Luther King Jr. Day- School closed
DESCRIPTION:
URL:https://www.adventistedge.com/event/martin-luther-king-jr-day-schools-are-closed/
END:VEVENT
BEGIN:VEVENT
DTSTART;VALUE=DATE:20240117
DTEND;VALUE=DATE:20240120
DTSTAMP:20260425T221331
CREATED:20220811T201828Z
LAST-MODIFIED:20230802T164017Z
UID:24187-1705449600-1705708799@www.adventistedge.com
SUMMARY:New Teacher Cohort Meeting
DESCRIPTION:
URL:https://www.adventistedge.com/event/new-teacher-cohort-meeting-5/
END:VEVENT
END:VCALENDAR