BEGIN:VCALENDAR
VERSION:2.0
PRODID:-//Adventist Edge - ECPv6.15.13//NONSGML v1.0//EN
CALSCALE:GREGORIAN
METHOD:PUBLISH
X-ORIGINAL-URL:https://www.adventistedge.com
X-WR-CALDESC:Events for Adventist Edge
REFRESH-INTERVAL;VALUE=DURATION:PT1H
X-Robots-Tag:noindex
X-PUBLISHED-TTL:PT1H
BEGIN:VTIMEZONE
TZID:America/New_York
BEGIN:DAYLIGHT
TZOFFSETFROM:-0500
TZOFFSETTO:-0400
TZNAME:EDT
DTSTART:20230312T070000
END:DAYLIGHT
BEGIN:STANDARD
TZOFFSETFROM:-0400
TZOFFSETTO:-0500
TZNAME:EST
DTSTART:20231105T060000
END:STANDARD
BEGIN:DAYLIGHT
TZOFFSETFROM:-0500
TZOFFSETTO:-0400
TZNAME:EDT
DTSTART:20240310T070000
END:DAYLIGHT
BEGIN:STANDARD
TZOFFSETFROM:-0400
TZOFFSETTO:-0500
TZNAME:EST
DTSTART:20241103T060000
END:STANDARD
BEGIN:DAYLIGHT
TZOFFSETFROM:-0500
TZOFFSETTO:-0400
TZNAME:EDT
DTSTART:20250309T070000
END:DAYLIGHT
BEGIN:STANDARD
TZOFFSETFROM:-0400
TZOFFSETTO:-0500
TZNAME:EST
DTSTART:20251102T060000
END:STANDARD
END:VTIMEZONE
BEGIN:VEVENT
DTSTART;TZID=America/New_York:20240905T100000
DTEND;TZID=America/New_York:20240905T120000
DTSTAMP:20260425T120447
CREATED:20240903T213200Z
LAST-MODIFIED:20240903T213200Z
UID:25688-1725530400-1725537600@www.adventistedge.com
SUMMARY:Carolina Conference Board of Education Meeting
DESCRIPTION:
URL:https://www.adventistedge.com/event/carolina-conference-board-of-education-meeting/
LOCATION:Mount Pisgah Academy\, 75 Academy Drive\, Candler\, NC\, 28715
END:VEVENT
BEGIN:VEVENT
DTSTART;TZID=America/New_York:20240905T133000
DTEND;TZID=America/New_York:20240905T153000
DTSTAMP:20260425T120447
CREATED:20240903T213439Z
LAST-MODIFIED:20240903T213439Z
UID:25695-1725543000-1725550200@www.adventistedge.com
SUMMARY:Carolina Conference - K-12 Board of Education
DESCRIPTION:Mount Pisgah Academy Library
URL:https://www.adventistedge.com/event/carolina-conference-k-12-board-of-education/
LOCATION:Mount Pisgah Academy\, 75 Academy Drive\, Candler\, NC\, 28715
END:VEVENT
BEGIN:VEVENT
DTSTART;TZID=America/New_York:20240912T130000
DTEND;TZID=America/New_York:20240912T130000
DTSTAMP:20260425T120447
CREATED:20240903T205404Z
LAST-MODIFIED:20240903T205404Z
UID:25669-1726146000-1726146000@www.adventistedge.com
SUMMARY:SUC Registrar’s Meeting - Secondary Education
DESCRIPTION:
URL:https://www.adventistedge.com/event/suc-registrars-meeting-secondary-education/
LOCATION:Zoom Meeting
END:VEVENT
BEGIN:VEVENT
DTSTART;VALUE=DATE:20240916
DTEND;VALUE=DATE:20240918
DTSTAMP:20260425T120447
CREATED:20240903T205821Z
LAST-MODIFIED:20240903T205821Z
UID:25671-1726444800-1726617599@www.adventistedge.com
SUMMARY:Secondary Education Advisory- In Person (SUC)
DESCRIPTION:
URL:https://www.adventistedge.com/event/secondary-education-advisory-in-person-suc/
LOCATION:Southern Union Conference\, 302 Research Drive\, Norcross\, GA\, 30092\, United States
END:VEVENT
BEGIN:VEVENT
DTSTART;VALUE=DATE:20240919
DTEND;VALUE=DATE:20240923
DTSTAMP:20260425T120447
CREATED:20240903T210417Z
LAST-MODIFIED:20240903T210417Z
UID:25673-1726704000-1727049599@www.adventistedge.com
SUMMARY:Leadership Conference- Camp Kulaqua
DESCRIPTION:
URL:https://www.adventistedge.com/event/leadership-conference-camp-kulaqua/
LOCATION:Camp Kulaqua
END:VEVENT
BEGIN:VEVENT
DTSTART;TZID=America/New_York:20240924T093000
DTEND;TZID=America/New_York:20240924T093000
DTSTAMP:20260425T120447
CREATED:20240903T172049Z
LAST-MODIFIED:20240919T160242Z
UID:25619-1727170200-1727170200@www.adventistedge.com
SUMMARY:Board of Education- Gulf States Conference
DESCRIPTION:CST
URL:https://www.adventistedge.com/event/board-of-education/
LOCATION:Bass Memorial Academy
END:VEVENT
BEGIN:VEVENT
DTSTART;TZID=America/New_York:20240925T090000
DTEND;TZID=America/New_York:20240925T160000
DTSTAMP:20260425T120447
CREATED:20240903T201620Z
LAST-MODIFIED:20240903T201620Z
UID:25647-1727254800-1727280000@www.adventistedge.com
SUMMARY:Early Childhood Education Meeting
DESCRIPTION:
URL:https://www.adventistedge.com/event/early-childhood-education-meeting/
LOCATION:Gulf States Conference
END:VEVENT
BEGIN:VEVENT
DTSTART;TZID=America/New_York:20240926T170000
DTEND;TZID=America/New_York:20240926T170000
DTSTAMP:20260425T120447
CREATED:20240903T210645Z
LAST-MODIFIED:20240903T210645Z
UID:25675-1727370000-1727370000@www.adventistedge.com
SUMMARY:Secondary Education- Curriculum Committee
DESCRIPTION:
URL:https://www.adventistedge.com/event/secondary-education-curriculum-committee/
LOCATION:Zoom Meeting
END:VEVENT
BEGIN:VEVENT
DTSTART;VALUE=DATE:20240929
DTEND;VALUE=DATE:20241003
DTSTAMP:20260425T120447
CREATED:20240923T221134Z
LAST-MODIFIED:20240925T221810Z
UID:25924-1727568000-1727913599@www.adventistedge.com
SUMMARY:Southern Union RISE Pastors' Conference
DESCRIPTION:
URL:https://www.adventistedge.com/event/25924/
LOCATION:Caribe Royal Resort & Conference Center
END:VEVENT
END:VCALENDAR