BEGIN:VCALENDAR
VERSION:2.0
PRODID:-//Adventist Edge - ECPv6.15.13//NONSGML v1.0//EN
CALSCALE:GREGORIAN
METHOD:PUBLISH
X-ORIGINAL-URL:https://www.adventistedge.com
X-WR-CALDESC:Events for Adventist Edge
REFRESH-INTERVAL;VALUE=DURATION:PT1H
X-Robots-Tag:noindex
X-PUBLISHED-TTL:PT1H
BEGIN:VTIMEZONE
TZID:America/New_York
BEGIN:DAYLIGHT
TZOFFSETFROM:-0500
TZOFFSETTO:-0400
TZNAME:EDT
DTSTART:20230312T070000
END:DAYLIGHT
BEGIN:STANDARD
TZOFFSETFROM:-0400
TZOFFSETTO:-0500
TZNAME:EST
DTSTART:20231105T060000
END:STANDARD
BEGIN:DAYLIGHT
TZOFFSETFROM:-0500
TZOFFSETTO:-0400
TZNAME:EDT
DTSTART:20240310T070000
END:DAYLIGHT
BEGIN:STANDARD
TZOFFSETFROM:-0400
TZOFFSETTO:-0500
TZNAME:EST
DTSTART:20241103T060000
END:STANDARD
BEGIN:DAYLIGHT
TZOFFSETFROM:-0500
TZOFFSETTO:-0400
TZNAME:EDT
DTSTART:20250309T070000
END:DAYLIGHT
BEGIN:STANDARD
TZOFFSETFROM:-0400
TZOFFSETTO:-0500
TZNAME:EST
DTSTART:20251102T060000
END:STANDARD
END:VTIMEZONE
BEGIN:VEVENT
DTSTART;VALUE=DATE:20240929
DTEND;VALUE=DATE:20241003
DTSTAMP:20260425T104335
CREATED:20240923T221134Z
LAST-MODIFIED:20240925T221810Z
UID:25924-1727568000-1727913599@www.adventistedge.com
SUMMARY:Southern Union RISE Pastors' Conference
DESCRIPTION:
URL:https://www.adventistedge.com/event/25924/
LOCATION:Caribe Royal Resort & Conference Center
END:VEVENT
BEGIN:VEVENT
DTSTART;TZID=America/New_York:20241008T093000
DTEND;TZID=America/New_York:20241008T160000
DTSTAMP:20260425T104335
CREATED:20240903T202702Z
LAST-MODIFIED:20240903T202702Z
UID:25651-1728379800-1728403200@www.adventistedge.com
SUMMARY:Early Childhood Education Meeting
DESCRIPTION:Florida Conference & Southeastern Conference
URL:https://www.adventistedge.com/event/early-childhood-education-meeting-2/
LOCATION:Southeastern Conference
END:VEVENT
BEGIN:VEVENT
DTSTART;TZID=America/New_York:20241008T170000
DTEND;TZID=America/New_York:20241008T170000
DTSTAMP:20260425T104335
CREATED:20240903T210907Z
LAST-MODIFIED:20240903T211439Z
UID:25677-1728406800-1728406800@www.adventistedge.com
SUMMARY:Secondary Education - Principal Cohort 22-23
DESCRIPTION:
URL:https://www.adventistedge.com/event/secondary-education-principal-cohort/
LOCATION:Zoom Meeting
END:VEVENT
BEGIN:VEVENT
DTSTART;TZID=America/New_York:20241010T093000
DTEND;TZID=America/New_York:20241010T160000
DTSTAMP:20260425T104335
CREATED:20240903T203232Z
LAST-MODIFIED:20240903T203232Z
UID:25657-1728552600-1728576000@www.adventistedge.com
SUMMARY:Early Childhood Education Meeting
DESCRIPTION:Kentucky-Tennessee Conference
URL:https://www.adventistedge.com/event/early-childhood-education-meeting-3/
LOCATION:South Central Conference\, 715 Youngs Lane\, Nashville\, TN\, 37207
END:VEVENT
BEGIN:VEVENT
DTSTART;TZID=America/New_York:20241015T170000
DTEND;TZID=America/New_York:20241015T170000
DTSTAMP:20260425T104335
CREATED:20240903T211318Z
LAST-MODIFIED:20240903T211318Z
UID:25681-1729011600-1729011600@www.adventistedge.com
SUMMARY:Secondary Education - Principal Cohort 23-24
DESCRIPTION:
URL:https://www.adventistedge.com/event/secondary-education-principal-cohort-23-24/
LOCATION:Zoom Meeting
END:VEVENT
BEGIN:VEVENT
DTSTART;VALUE=DATE:20241022
DTEND;VALUE=DATE:20241025
DTSTAMP:20260425T104335
CREATED:20240903T204733Z
LAST-MODIFIED:20240903T204733Z
UID:25667-1729555200-1729814399@www.adventistedge.com
SUMMARY:Second Annual SUC Chaplains Retreat
DESCRIPTION:
URL:https://www.adventistedge.com/event/second-annual-suc-chaplains-retreat/
LOCATION:Southern Union Conference\, 302 Research Drive\, Norcross\, GA\, 30092\, United States
END:VEVENT
BEGIN:VEVENT
DTSTART;TZID=America/New_York:20241022T093000
DTEND;TZID=America/New_York:20241022T160000
DTSTAMP:20260425T104335
CREATED:20240903T203918Z
LAST-MODIFIED:20240903T203918Z
UID:25661-1729589400-1729612800@www.adventistedge.com
SUMMARY:Early Childhood Education Meeting - Carolina Conference
DESCRIPTION:
URL:https://www.adventistedge.com/event/early-childhood-education-meeting-carolina-conference/
LOCATION:North Carolina Conference Office\, 2701 East WT Harris Boulevard\, Charlotte\, NC\, 28213
END:VEVENT
BEGIN:VEVENT
DTSTART;TZID=America/New_York:20241024T093000
DTEND;TZID=America/New_York:20241024T160000
DTSTAMP:20260425T104335
CREATED:20240903T204222Z
LAST-MODIFIED:20240903T204222Z
UID:25665-1729762200-1729785600@www.adventistedge.com
SUMMARY:Early Childhood Education Meeting
DESCRIPTION:Georgia Cumberland and South Atlantic Conference
URL:https://www.adventistedge.com/event/early-childhood-education-meeting-4/
LOCATION:Southern Union Conference\, 302 Research Drive\, Norcross\, GA\, 30092\, United States
END:VEVENT
BEGIN:VEVENT
DTSTART;TZID=America/New_York:20241030T090000
DTEND;TZID=America/New_York:20241030T140000
DTSTAMP:20260425T104335
CREATED:20240904T201216Z
LAST-MODIFIED:20240904T201216Z
UID:25710-1730278800-1730296800@www.adventistedge.com
SUMMARY:Florida Conference - Board of Education
DESCRIPTION:In-Person
URL:https://www.adventistedge.com/event/florida-conference-board-of-education/
LOCATION:Florida Conference\, 351 S. State Road 434\, Altamonte Springs\, FL\, 32714\, United States
END:VEVENT
END:VCALENDAR