BEGIN:VCALENDAR
VERSION:2.0
PRODID:-//Adventist Edge - ECPv6.15.13//NONSGML v1.0//EN
CALSCALE:GREGORIAN
METHOD:PUBLISH
X-ORIGINAL-URL:https://www.adventistedge.com
X-WR-CALDESC:Events for Adventist Edge
REFRESH-INTERVAL;VALUE=DURATION:PT1H
X-Robots-Tag:noindex
X-PUBLISHED-TTL:PT1H
BEGIN:VTIMEZONE
TZID:America/New_York
BEGIN:DAYLIGHT
TZOFFSETFROM:-0500
TZOFFSETTO:-0400
TZNAME:EDT
DTSTART:20230312T070000
END:DAYLIGHT
BEGIN:STANDARD
TZOFFSETFROM:-0400
TZOFFSETTO:-0500
TZNAME:EST
DTSTART:20231105T060000
END:STANDARD
BEGIN:DAYLIGHT
TZOFFSETFROM:-0500
TZOFFSETTO:-0400
TZNAME:EDT
DTSTART:20240310T070000
END:DAYLIGHT
BEGIN:STANDARD
TZOFFSETFROM:-0400
TZOFFSETTO:-0500
TZNAME:EST
DTSTART:20241103T060000
END:STANDARD
BEGIN:DAYLIGHT
TZOFFSETFROM:-0500
TZOFFSETTO:-0400
TZNAME:EDT
DTSTART:20250309T070000
END:DAYLIGHT
BEGIN:STANDARD
TZOFFSETFROM:-0400
TZOFFSETTO:-0500
TZNAME:EST
DTSTART:20251102T060000
END:STANDARD
END:VTIMEZONE
BEGIN:VEVENT
DTSTART;VALUE=DATE:20241105
DTEND;VALUE=DATE:20241106
DTSTAMP:20260425T092357
CREATED:20240925T222422Z
LAST-MODIFIED:20240925T222422Z
UID:25960-1730764800-1730851199@www.adventistedge.com
SUMMARY:Meet the New Teacher Graduates
DESCRIPTION:
URL:https://www.adventistedge.com/event/meet-the-new-teacher-graduates/
LOCATION:Southern Adventist University
END:VEVENT
BEGIN:VEVENT
DTSTART;TZID=America/New_York:20241105T170000
DTEND;TZID=America/New_York:20241105T170000
DTSTAMP:20260425T092357
CREATED:20240903T211618Z
LAST-MODIFIED:20240903T211618Z
UID:25684-1730826000-1730826000@www.adventistedge.com
SUMMARY:Secondary Education - Principal Cohort 24-25
DESCRIPTION:
URL:https://www.adventistedge.com/event/secondary-education-principal-cohort-24-25/
LOCATION:Zoom Meeting
END:VEVENT
BEGIN:VEVENT
DTSTART;VALUE=DATE:20241118
DTEND;VALUE=DATE:20241121
DTSTAMP:20260425T092357
CREATED:20240925T222708Z
LAST-MODIFIED:20240925T222708Z
UID:25963-1731888000-1732147199@www.adventistedge.com
SUMMARY:SUC Fall Council and Advisories
DESCRIPTION:
URL:https://www.adventistedge.com/event/suc-fall-council-and-advisories/
LOCATION:Fort Myers\, Florida
END:VEVENT
BEGIN:VEVENT
DTSTART;VALUE=DATE:20241128
DTEND;VALUE=DATE:20241129
DTSTAMP:20260425T092357
CREATED:20240925T222744Z
LAST-MODIFIED:20240925T222744Z
UID:25967-1732752000-1732838399@www.adventistedge.com
SUMMARY:Thanksgiving
DESCRIPTION:
URL:https://www.adventistedge.com/event/thanksgiving-2/
END:VEVENT
END:VCALENDAR